Workbook

Sheet 농업1.시도별 농가 및 농가인구
B1: [농 업]
B3: 1. 시도별 농가 및 농가인구
H4: (단위 : 가구, 명, %)
B5: 구분 | C5: 농가 | G5: 농가인구
C6: 2010 | D6: 2015 | F6: 증감률 | G6: 2010 | H6: 2015 | J6: 증감률
E7: 구성비 | I7: 구성비
B8: 전국 | C8: 1177318 | D8: =SUM(D9:D25) -> 1088518 | E8: 100 | F8: =((D8-C8)/C8)*100 -> -7.5425671 | G8: 3062956 | H8: =SUM(H9:H25) -> 2569387 | I8: 100 | J8: =((H8-G8)/G8)*100 -> -16.114139
B9: 서울 | C9: 4123 | D9: 3911 | E9: =(D9/$D$8)*100 -> 0.35929585 | F9: =((D9-C9)/C9)*100 -> -5.141887 | G9: 13602 | H9: 11555 | I9: =(H9/$H$8)*100 -> 0.44971816 | J9: =((H9-G9)/G9)*100 -> -15.049257
B10: 부산 | C10: 8457 | D10: 8068 | E10: =(D10/$D$8)*100 -> 0.74119123 | F10: =((D10-C10)/C10)*100 -> -4.5997399 | G10: 24961 | H10: 20944 | I10: =(H10/$H$8)*100 -> 0.81513606 | J10: =((H10-G10)/G10)*100 -> -16.093105
B11: 대구 | C11: 16974 | D11: 16571 | E11: =(D11/$D$8)*100 -> 1.5223451 | F11: =((D11-C11)/C11)*100 -> -2.3742194 | G11: 50351 | H11: 44542 | I11: =(H11/$H$8)*100 -> 1.7335652 | J11: =((H11-G11)/G11)*100 -> -11.53701
B12: 인천 | C12: 13835 | D12: 13081 | E12: =(D12/$D$8)*100 -> 1.2017256 | F12: =((D12-C12)/C12)*100 -> -5.4499458 | G12: 37750 | H12: 32454 | I12: =(H12/$H$8)*100 -> 1.2631028 | J12: =((H12-G12)/G12)*100 -> -14.029139
B13: 광주 | C13: 13079 | D13: 12036 | E13: =(D13/$D$8)*100 -> 1.1057236 | F13: =((D13-C13)/C13)*100 -> -7.9746158 | G13: 37994 | H13: 30746 | I13: =(H13/$H$8)*100 -> 1.1966278 | J13: =((H13-G13)/G13)*100 -> -19.076696
B14: 대전 | C14: 8914 | D14: 9428 | E14: =(D14/$D$8)*100 -> 0.86613175 | F14: =((D14-C14)/C14)*100 -> 5.7662105 | G14: 27605 | H14: 25569 | I14: =(H14/$H$8)*100 -> 0.99514009 | J14: =((H14-G14)/G14)*100 -> -7.3754755
B15: 울산 | C15: 12124 | D15: 12385 | E15: =(D15/$D$8)*100 -> 1.1377855 | F15: =((D15-C15)/C15)*100 -> 2.1527549 | G15: 34078 | H15: 31228 | I15: =(H15/$H$8)*100 -> 1.2153872 | J15: =((H15-G15)/G15)*100 -> -8.3631669
B16: 세종 | C16: - | D16: 6571 | E16: =(D16/$D$8)*100 -> 0.6036648 | F16: - | G16: - | H16: 16335 | I16: =(H16/$H$8)*100 -> 0.63575475 | J16: -
B17: 경기 | C17: 135332 | D17: 126679 | E17: =(D17/$D$8)*100 -> 11.63775 | F17: =((D17-C17)/C17)*100 -> -6.3939054 | G17: 412138 | H17: 350200 | I17: =(H17/$H$8)*100 -> 13.62971 | J17: =((H17-G17)/G17)*100 -> -15.028461
B18: 강원 | C18: 72472 | D18: 73082 | E18: =(D18/$D$8)*100 -> 6.7138991 | F18: =((D18-C18)/C18)*100 -> 0.84170438 | G18: 191922 | H18: 175567 | I18: =(H18/$H$8)*100 -> 6.8330306 | J18: =((H18-G18)/G18)*100 -> -8.5216911
B19: 충북 | C19: 79963 | D19: 74611 | E19: =(D19/$D$8)*100 -> 6.8543653 | F19: =((D19-C19)/C19)*100 -> -6.6930956 | G19: 211522 | H19: 178248 | I19: =(H19/$H$8)*100 -> 6.9373746 | J19: =((H19-G19)/G19)*100 -> -15.730751
B20: 충남 | C20: 151424 | D20: 132008 | E20: =(D20/$D$8)*100 -> 12.127314 | F20: =((D20-C20)/C20)*100 -> -12.822274 | G20: 394324 | H20: 308455 | I20: =(H20/$H$8)*100 -> 12.005004 | J20: =((H20-G20)/G20)*100 -> -21.776255
B21: 전북 | C21: 109433 | D21: 100362 | E21: =(D21/$D$8)*100 -> 9.2200588 | F21: =((D21-C21)/C21)*100 -> -8.2890901 | G21: 277611 | H21: 227431 | I21: =(H21/$H$8)*100 -> 8.8515665 | J21: =((H21-G21)/G21)*100 -> -18.075653
B22: 전남 | C22: 170213 | D22: 150141 | E22: =(D22/$D$8)*100 -> 13.793157 | F22: =((D22-C22)/C22)*100 -> -11.792284 | G22: 395835 | H22: 318848 | I22: =(H22/$H$8)*100 -> 12.409497 | J22: =((H22-G22)/G22)*100 -> -19.449265
B23: 경북 | C23: 201651 | D23: 184642 | E23: =(D23/$D$8)*100 -> 16.962696 | F23: =((D23-C23)/C23)*100 -> -8.4348701 | G23: 491225 | H23: 410141 | I23: =(H23/$H$8)*100 -> 15.962601 | J23: =((H23-G23)/G23)*100 -> -16.506489
B24: 경남 | C24: 141431 | D24: 131455 | E24: =(D24/$D$8)*100 -> 12.076511 | F24: =((D24-C24)/C24)*100 -> -7.0536163 | G24: 347499 | H24: 293720 | I24: =(H24/$H$8)*100 -> 11.43152 | J24: =((H24-G24)/G24)*100 -> -15.476016
B25: 제주 | C25: 37893 | D25: 33487 | E25: =(D25/$D$8)*100 -> 3.0763846 | F25: =((D25-C25)/C25)*100 -> -11.627477 | G25: 114539 | H25: 93404 | I25: =(H25/$H$8)*100 -> 3.635264 | J25: =((H25-G25)/G25)*100 -> -18.45223

Sheet 2. 시군구별 농가 및 농가인구
B1: 2. 시군구별 농가 및 농가인구
F2: (단위 : 가구, 명)
B3: 구분 | D3: 농가 | E3: 농가인구
E4: 합계 | F4: 남자 | G4: 여자
B5: 전국 | D5: 1088518 | E5: 2569387 | F5: 1264652 | G5: 1304735
B6: 서울특별시 | D6: 3911 | E6: 11555 | F6: 5837 | G6: 5718
C7: 종로구 | D7: 59 | E7: 165 | F7: 85 | G7: 80
C8: 중구 | D8: 38 | E8: 108 | F8: 48 | G8: 60
C9: 용산구 | D9: 40 | E9: 122 | F9: 58 | G9: 64
C10: 성동구 | D10: 52 | E10: 170 | F10: 85 | G10: 85
C11: 광진구 | D11: 135 | E11: 421 | F11: 221 | G11: 200
C12: 동대문구 | D12: 66 | E12: 200 | F12: 103 | G12: 97
C13: 중랑구 | D13: 315 | E13: 963 | F13: 500 | G13: 463
C14: 성북구 | D14: 89 | E14: 244 | F14: 118 | G14: 126
C15: 강북구 | D15: 78 | E15: 232 | F15: 129 | G15: 103
C16: 도봉구 | D16: 121 | E16: 323 | F16: 162 | G16: 161
C17: 노원구 | D17: 104 | E17: 318 | F17: 162 | G17: 156
C18: 은평구 | D18: 173 | E18: 539 | F18: 267 | G18: 272
... C31: 강동구 | D31: 325 | E31: 948 | F31: 484 | G31: 464
B32: 부산광역시 | D32: 8068 | E32: 20944 | F32: 10457 | G32: 10487
C33: 중구 | D33: 28 | E33: 81 | F33: 36 | G33: 45
C34: 서구 | D34: 54 | E34: 141 | F34: 73 | G34: 68
C35: 동구 | D35: 62 | E35: 168 | F35: 83 | G35: 85
C36: 영도구 | D36: 60 | E36: 167 | F36: 83 | G36: 84
C37: 부산진구 | D37: 124 | E37: 361 | F37: 183 | G37: 178
C38: 동래구 | D38: 351 | E38: 1002 | F38: 485 | G38: 517
C39: 남구 | D39: 103 | E39: 283 | F39: 138 | G39: 145
C40: 북구 | D40: 350 | E40: 1038 | F40: 529 | G40: 509
C41: 해운대구 | D41: 333 | E41: 935 | F41: 474 | G41: 461
C42: 사하구 | D42: 435 | E42: 1221 | F42: 607 | G42: 614
C43: 금정구 | D43: 565 | E43: 1452 | F43: 732 | G43: 720
C44: 강서구 | D44: 3117 | E44: 7632 | F44: 3817 | G44: 3815
... C48: 기장군 | D48: 2052 | E48: 5251 | F48: 2598 | G48: 2653
B49: 대구광역시 | D49: 16571 | E49: 44542 | F49: 22538 | G49: 22004
C50: 중구 | D50: 121 | E50: 285 | F50: 150 | G50: 135
C51: 동구 | D51: 3665 | E51: 9548 | F51: 4803 | G51: 4745
C52: 서구 | D52: 554 | E52: 1494 | F52: 781 | G52: 713
C53: 남구 | D53: 329 | E53: 818 | F53: 426 | G53: 392
C54: 북구 | D54: 2017 | E54: 5653 | F54: 2894 | G54: 2759
C55: 수성구 | D55: 2410 | E55: 6797 | F55: 3438 | G55: 3359
C56: 달서구 | D56: 1694 | E56: 4920 | F56: 2548 | G56: 2372
C57: 달성군 | D57: 5781 | E57: 15027 | F57: 7498 | G57: 7529
B58: 인천광역시 | D58: 13081 | E58: 32454 | F58: 15992 | G58: 16462
C59: 중구 | D59: 730 | E59: 1695 | F59: 852 | G59: 843
C60: 동구 | D60: 34 | E60: 92 | F60: 46 | G60: 46
C61: 남구 | D61: 252 | E61: 698 | F61: 352 | G61: 346
C62: 연수구 | D62: 376 | E62: 1156 | F62: 556 | G62: 600
C63: 남동구 | D63: 655 | E63: 1974 | F63: 976 | G63: 998
C64: 부평구 | D64: 527 | E64: 1569 | F64: 776 | G64: 793
C65: 계양구 | D65: 785 | E65: 2202 | F65: 1123 | G65: 1079
C66: 서구 | D66: 867 | E66: 2614 | F66: 1315 | G66: 1299
C67: 강화군 | D67: 7539 | E67: 17496 | F67: 8558 | G67: 8938
C68: 옹진군 | D68: 1316 | E68: 2958 | F68: 1438 | G68: 1520
B69: 광주광역시 | D69: 12036 | E69: 30746 | F69: 15173 | G69: 15573
C70: 동구 | D70: 678 | E70: 1716 | F70: 857 | G70: 859
C71: 서구 | D71: 1349 | E71: 3813 | F71: 1904 | G71: 1909
C72: 남구 | D72: 2045 | E72: 5150 | F72: 2501 | G72: 2649
C73: 북구 | D73: 3077 | E73: 8107 | F73: 4048 | G73: 4059
C74: 광산구 | D74: 4887 | E74: 11960 | F74: 5863 | G74: 6097
B75: 대전광역시 | D75: 9428 | E75: 25569 | F75: 12942 | G75: 12627
C76: 동구 | D76: 1477 | E76: 3797 | F76: 1929 | G76: 1868
C77: 중구 | D77: 1128 | E77: 3065 | F77: 1585 | G77: 1480
C78: 서구 | D78: 2681 | E78: 7208 | F78: 3649 | G78: 3559
C79: 유성구 | D79: 2725 | E79: 7638 | F79: 3834 | G79: 3804
C80: 대덕구 | D80: 1417 | E80: 3861 | F80: 1945 | G80: 1916
B81: 울산광역시 | D81: 12385 | E81: 31228 | F81: 15514 | G81: 15714
C82: 중구 | D82: 1300 | E82: 3572 | F82: 1823 | G82: 1749
C83: 남구 | D83: 1412 | E83: 4101 | F83: 2070 | G83: 2031
C84: 동구 | D84: 332 | E84: 846 | F84: 435 | G84: 411
C85: 북구 | D85: 2038 | E85: 5408 | F85: 2675 | G85: 2733
C86: 울주군 | D86: 7303 | E86: 17301 | F86: 8511 | G86: 8790
B87: 세종특별자치시 | D87: 6571 | E87: 16335 | F87: 8175 | G87: 8160
C88: 세종시 | D88: 6571 | E88: 16335 | F88: 8175 | G88: 8160
B89: 경기도 | D89: 126679 | E89: 350200 | F89: 175816 | G89: 174384
C90: 수원시 | D90: 3357 | E90: 10314 | F90: 5228 | G90: 5086
C91: 장안구 | D91: 778 | E91: 2459 | F91: 1241 | G91: 1218
C92: 권선구 | D92: 1386 | E92: 4233 | F92: 2119 | G92: 2114
C93: 팔달구 | D93: 718 | E93: 2106 | F93: 1081 | G93: 1025
C94: 영통구 | D94: 475 | E94: 1516 | F94: 787 | G94: 729
C95: 성남시 | D95: 1092 | E95: 3229 | F95: 1675 | G95: 1554
C96: 수정구 | D96: 597 | E96: 1719 | F96: 887 | G96: 832
C97: 중원구 | D97: 124 | E97: 357 | F97: 191 | G97: 166
C98: 분당구 | D98: 371 | E98: 1153 | F98: 597 | G98: 556
C99: 의정부시 | D99: 1265 | E99: 3871 | F99: 1919 | G99: 1952
C100: 안양시 | D100: 654 | E100: 2037 | F100: 1016 | G100: 1021
C101: 만안구 | D101: 169 | E101: 515 | F101: 251 | G101: 264
... C140: 양평군 | D140: 7615 | E140: 19026 | F140: 9401 | G140: 9625
B141: 강원도 | D141: 73082 | E141: 175567 | F141: 87715 | G141: 87852
C142: 춘천시 | D142: 6604 | E142: 16902 | F142: 8370 | G142: 8532
C143: 원주시 | D143: 8606 | E143: 22175 | F143: 11064 | G143: 11111
C144: 강릉시 | D144: 7460 | E144: 18036 | F144: 8976 | G144: 9060
C145: 동해시 | D145: 2463 | E145: 5865 | F145: 2913 | G145: 2952
C146: 태백시 | D146: 665 | E146: 1575 | F146: 792 | G146: 783
C147: 속초시 | D147: 1072 | E147: 2730 | F147: 1370 | G147: 1360
C148: 삼척시 | D148: 4606 | E148: 9973 | F148: 4875 | G148: 5098
C149: 홍천군 | D149: 7423 | E149: 17523 | F149: 8763 | G149: 8760
C150: 횡성군 | D150: 5547 | E150: 13280 | F150: 6671 | G150: 6609
C151: 영월군 | D151: 3679 | E151: 8091 | F151: 4075 | G151: 4016
C152: 평창군 | D152: 4448 | E152: 10438 | F152: 5251 | G152: 5187
C153: 정선군 | D153: 3398 | E153: 7706 | F153: 3950 | G153: 3756
...

Sheet 3. 연령별 농가인구
B1: 3. 연령별 농가인구
J2: (단위 : 명)
B3: 구분 | C3: 합계 | D3: 15세 미만 | E3: 15~29 | F3: 30~39 | G3: 40~49 | H3: 50~59 | I3: 60~69 | J3: 70세이상 | K3: 65세이상
B4: 전국 | C4: 2569387 | D4: 149676 | E4: 237766 | F4: 134731 | G4: 237315 | H4: 516990 | I4: 598932 | J4: 693977 | K4: 987201
B5: 서울 | C5: 11555 | D5: 547 | E5: 1838 | F5: 1237 | G5: 941 | H5: 2377 | I5: 2847 | J5: 1768 | K5: 3050
B6: 부산 | C6: 20944 | D6: 911 | E6: 2727 | F6: 1536 | G6: 1742 | H6: 4403 | I6: 5609 | J6: 4016 | K6: 6689
B7: 대구 | C7: 44542 | D7: 2443 | E7: 6495 | F7: 3246 | G7: 4346 | H7: 9408 | I7: 10565 | J7: 8039 | K7: 13065
B8: 인천 | C8: 32454 | D8: 1586 | E8: 3195 | F8: 1904 | G8: 2711 | H8: 6584 | I8: 7583 | J8: 8891 | K8: 12697
B9: 광주 | C9: 30746 | D9: 1763 | E9: 4438 | F9: 2123 | G9: 3025 | H9: 6057 | I9: 7007 | J9: 6333 | K9: 9846
B10: 대전 | C10: 25569 | D10: 1287 | E10: 3725 | F10: 1810 | G10: 2386 | H10: 5488 | I10: 6024 | J10: 4849 | K10: 7617
B11: 울산 | C11: 31228 | D11: 1618 | E11: 4204 | F11: 1976 | G11: 3207 | H11: 6720 | I11: 7109 | J11: 6394 | K11: 9730
B12: 세종 | C12: 16335 | D12: 939 | E12: 1659 | F12: 1065 | G12: 1468 | H12: 3212 | I12: 3730 | J12: 4262 | K12: 6035
B13: 경기 | C13: 350200 | D13: 22023 | E13: 47639 | F13: 24541 | G13: 35146 | H13: 73790 | I13: 70937 | J13: 76124 | K13: 108396
B14: 강원 | C14: 175567 | D14: 10419 | E14: 14906 | F14: 8429 | G14: 17100 | H14: 40322 | I14: 39045 | J14: 45346 | K14: 62313
B15: 충북 | C15: 178248 | D15: 9979 | E15: 16281 | F15: 8830 | G15: 15895 | H15: 38992 | I15: 41437 | J15: 46834 | K15: 65121
... B21: 제주 | C21: 93404 | D21: 11035 | E21: 13450 | F21: 6971 | G21: 13974 | H21: 16803 | I21: 15099 | J21: 16072 | K21: 23950

Sheet 4. 농업종사기간별 농가인구(15세이상)
B1: 4. 농업종사기간별 농가인구(15세이상)
H2: (단위 : 명)
B3: 구분 | C3: 15세이상 농가인구 | D3: 농업 종사기간별 | G3: 농업외 종사기간별
D4: 1개월미만 | E4: 1~3개월 | F4: 3개월이상 | G4: 1개월미만 | H4: 1개월이상
B5: 전국 | C5: 2419711 | D5: 435526 | E5: 106591 | F5: 1877594 | G5: 1742905 | H5: 676806
B6: 서울 | C6: 11008 | D6: 3925 | E6: 1119 | F6: 5964 | G6: 6434 | H6: 4574
B7: 부산 | C7: 20033 | D7: 4948 | E7: 1251 | F7: 13834 | G7: 13287 | H7: 6746
B8: 대구 | C8: 42099 | D8: 11251 | E8: 2997 | F8: 27851 | G8: 27877 | H8: 14222
B9: 인천 | C9: 30868 | D9: 5979 | E9: 1474 | F9: 23415 | G9: 20063 | H9: 10805
B10: 광주 | C10: 28983 | D10: 7628 | E10: 2043 | F10: 19312 | G10: 19701 | H10: 9282
B11: 대전 | C11: 24282 | D11: 6426 | E11: 2139 | F11: 15717 | G11: 14967 | H11: 9315
B12: 울산 | C12: 29610 | D12: 6629 | E12: 1819 | F12: 21162 | G12: 18623 | H12: 10987
B13: 세종 | C13: 15396 | D13: 3198 | E13: 518 | F13: 11680 | G13: 10749 | H13: 4647
B14: 경기 | C14: 328177 | D14: 84220 | E14: 19170 | F14: 224787 | G14: 214390 | H14: 113787
B15: 강원 | C15: 165148 | D15: 29070 | E15: 6007 | F15: 130071 | G15: 115395 | H15: 49753
B16: 충북 | C16: 168269 | D16: 30922 | E16: 6662 | F16: 130685 | G16: 122731 | H16: 45538
... B22: 제주 | C22: 82369 | D22: 20440 | E22: 5178 | F22: 56751 | G22: 52109 | H22: 30260

Sheet 5. 전 겸업별 농가 
B1: 5. 전 · 겸업별 농가
G2: (단위 : 가구)
B3: 구분 | C3: 합계 | D3: 전업 | E3: 겸업
F4: 1종겸업 | G4: 2종겸업
B5: 전국 | C5: 1088518 | D5: 598466 | E5: 490052 | F5: 172450 | G5: 317602
B6: 서울 | C6: 3911 | D6: 1174 | E6: 2737 | F6: 304 | G6: 2433
B7: 부산 | C7: 8068 | D7: 3631 | E7: 4437 | F7: 914 | G7: 3523
B8: 대구 | C8: 16571 | D8: 7251 | E8: 9320 | F8: 1486 | G8: 7834
B9: 인천 | C9: 13081 | D9: 5893 | E9: 7188 | F9: 2179 | G9: 5009
B10: 광주 | C10: 12036 | D10: 5709 | E10: 6327 | F10: 1289 | G10: 5038
B11: 대전 | C11: 9428 | D11: 3635 | E11: 5793 | F11: 637 | G11: 5156
B12: 울산 | C12: 12385 | D12: 5094 | E12: 7291 | F12: 1262 | G12: 6029
B13: 세종 | C13: 6571 | D13: 3413 | E13: 3158 | F13: 871 | G13: 2287
B14: 경기 | C14: 126679 | D14: 53322 | E14: 73357 | F14: 16382 | G14: 56975
B15: 강원 | C15: 73082 | D15: 37246 | E15: 35836 | F15: 11111 | G15: 24725
B16: 충북 | C16: 74611 | D16: 41405 | E16: 33206 | F16: 11061 | G16: 22145
... B22: 제주 | C22: 33487 | D22: 13331 | E22: 20156 | F22: 8132 | G22: 12024

Sheet 6.경지규모별 농가
B1: 6.경지규모별 농가
H2: (단위 : 가구)
B3: 구분 | C3: 합계 | D3: 경지없음 | E3: 0.5ha 미만 | F3: 0.5~1.0ha | G3: 1.0~2.0ha | H3: 2.0~3.0ha | I3: 3.0~5.0ha | J3: 5.0ha 이상
B4: 전국 | C4: 1088518 | D4: 10478 | E4: 486234 | F4: 255365 | G4: 185111 | H4: 62635 | I4: 49330 | J4: 39365
B5: 서울 | C5: 3911 | D5: 33 | E5: 2707 | F5: 729 | G5: 281 | H5: 58 | I5: 53 | J5: 50
B6: 부산 | C6: 8068 | D6: 29 | E6: 5395 | F6: 1453 | G6: 717 | H6: 243 | I6: 134 | J6: 97
B7: 대구 | C7: 16571 | D7: 132 | E7: 11582 | F7: 3114 | G7: 1237 | H7: 242 | I7: 170 | J7: 94
B8: 인천 | C8: 13081 | D8: 103 | E8: 5807 | F8: 2764 | G8: 2455 | H8: 821 | I8: 579 | J8: 552
B9: 광주 | C9: 12036 | D9: 61 | E9: 7379 | F9: 2577 | G9: 1317 | H9: 265 | I9: 232 | J9: 205
B10: 대전 | C10: 9428 | D10: 31 | E10: 6685 | F10: 1836 | G10: 602 | H10: 112 | I10: 105 | J10: 57
B11: 울산 | C11: 12385 | D11: 132 | E11: 7996 | F11: 2426 | G11: 1168 | H11: 325 | I11: 218 | J11: 120
B12: 세종 | C12: 6571 | D12: 108 | E12: 3094 | F12: 1648 | G12: 1061 | H12: 282 | I12: 216 | J12: 162
B13: 경기 | C13: 126679 | D13: 1594 | E13: 63115 | F13: 28528 | G13: 18857 | H13: 6156 | I13: 4733 | J13: 3696
B14: 강원 | C14: 73082 | D14: 461 | E14: 33565 | F14: 15463 | G14: 11991 | H14: 4486 | I14: 4134 | J14: 2982
B15: 충북 | C15: 74611 | D15: 710 | E15: 32058 | F15: 18630 | G15: 13527 | H15: 4329 | I15: 3274 | J15: 2083
... B21: 제주 | C21: 33487 | D21: 283 | E21: 11844 | F21: 9409 | G21: 6949 | H21: 2186 | I21: 1779 | J21: 1037

Sheet 7. 경영형태별 농가
B1: 7. 경영형태별 농가
J2: (단위 : 가구)
B3: 구분 | C3: 합계 | D3: 논벼 | E3: 식량작물 | F3: 채소.산나물 | G3: 특용작물 .버섯 | H3: 과수 | I3: 약용작물 | J3: 화초. 관상작물 | K3: 기타작물 | L3: 축산
B4: 전국 | C4: 1088518 | D4: 453896 | E4: 138047 | F4: 198138 | G4: 38576 | H4: 171836 | I4: 10454 | J4: 14257 | K4: 10013 | L4: 53301
B5: 서울 | C5: 3911 | D5: 905 | E5: 1166 | F5: 733 | G5: 122 | H5: 576 | I5: 66 | J5: 223 | K5: 55 | L5: 65
B6: 부산 | C6: 8068 | D6: 2347 | E6: 874 | F6: 2991 | G6: 62 | H6: 1172 | I6: 76 | J6: 308 | K6: 126 | L6: 112
B7: 대구 | C7: 16571 | D7: 5018 | E7: 1636 | F7: 3364 | G7: 438 | H7: 4626 | I7: 176 | J7: 421 | K7: 421 | L7: 471
B8: 인천 | C8: 13081 | D8: 6689 | E8: 2846 | F8: 1836 | G8: 217 | H8: 841 | I8: 61 | J8: 97 | K8: 74 | L8: 420
B9: 광주 | C9: 12036 | D9: 6136 | E9: 1228 | F9: 2106 | G9: 127 | H9: 1562 | I9: 69 | J9: 458 | K9: 134 | L9: 216
B10: 대전 | C10: 9428 | D10: 3077 | E10: 1519 | F10: 1411 | G10: 884 | H10: 1909 | I10: 159 | J10: 246 | K10: 48 | L10: 175
B11: 울산 | C11: 12385 | D11: 5913 | E11: 1383 | F11: 1785 | G11: 78 | H11: 1995 | I11: 74 | J11: 107 | K11: 110 | L11: 940
B12: 세종 | C12: 6571 | D12: 3169 | E12: 755 | F12: 520 | G12: 372 | H12: 1039 | I12: 27 | J12: 66 | K12: 70 | L12: 553
B13: 경기 | C13: 126679 | D13: 58975 | E13: 22679 | F13: 18542 | G13: 6181 | H13: 8911 | I13: 548 | J13: 2843 | K13: 917 | L13: 7083
B14: 강원 | C14: 73082 | D14: 18638 | E14: 22594 | F14: 16765 | G14: 5718 | H14: 3259 | I14: 1118 | J14: 542 | K14: 466 | L14: 3982
B15: 충북 | C15: 74611 | D15: 26748 | E15: 12898 | F15: 9154 | G15: 4858 | H15: 14498 | I15: 1060 | J15: 731 | K15: 796 | L15: 3868
... B21: 제주 | C21: 33487 | D21: 5 | E21: 3892 | F21: 7319 | G21: 368 | H21: 20026 | I21: 81 | J21: 347 | K21: 707 | L21: 742

Sheet 8. 농축산물 판매금액별 농가
B1: 8. 농축산물 판매금액별 농가
I2: (단위 : 가구)
B3: 구분 | C3: 합계 | D3: 판매없음 | E3: 120만원 미만 | F3: 120~1천만원 | G3: 1천~3천만원 | H3: 3천~5천만원 | I3: 5천~1억원 | J3: 1억~2억원 | K3: 2억원이상
B4: 전국 | C4: 1088518 | D4: 121718 | E4: 146455 | F4: 469966 | G4: 197673 | H4: 67442 | I4: 56005 | J4: 19961 | K4: 9298
B5: 서울 | C5: 3911 | D5: 1473 | E5: 668 | F5: 1207 | G5: 319 | H5: 92 | I5: 89 | J5: 30 | K5: 33
B6: 부산 | C6: 8068 | D6: 1078 | E6: 1253 | F6: 3707 | G6: 1081 | H6: 368 | I6: 352 | J6: 158 | K6: 71
B7: 대구 | C7: 16571 | D7: 2726 | E7: 3316 | F7: 7133 | G7: 2157 | H7: 623 | I7: 447 | J7: 120 | K7: 49
B8: 인천 | C8: 13081 | D8: 1713 | E8: 1779 | F8: 6195 | G8: 2249 | H8: 538 | I8: 417 | J8: 128 | K8: 62
B9: 광주 | C9: 12036 | D9: 2473 | E9: 2167 | F9: 5191 | G9: 1502 | H9: 330 | I9: 255 | J9: 88 | K9: 30
B10: 대전 | C10: 9428 | D10: 1855 | E10: 2626 | F10: 3910 | G10: 711 | H10: 153 | I10: 120 | J10: 35 | K10: 18
B11: 울산 | C11: 12385 | D11: 2567 | E11: 2483 | F11: 5475 | G11: 1289 | H11: 301 | I11: 176 | J11: 63 | K11: 31
B12: 세종 | C12: 6571 | D12: 1017 | E12: 1044 | F12: 2791 | G12: 943 | H12: 333 | I12: 266 | J12: 86 | K12: 91
B13: 경기 | C13: 126679 | D13: 21097 | E13: 19090 | F13: 52960 | G13: 19243 | H13: 5594 | I13: 4510 | J13: 2092 | K13: 2093
B14: 강원 | C14: 73082 | D14: 9900 | E14: 12492 | F14: 30079 | G14: 11278 | H14: 4036 | I14: 3247 | J14: 1398 | K14: 652
B15: 충북 | C15: 74611 | D15: 9815 | E15: 10056 | F15: 30811 | G15: 13408 | H15: 4737 | I15: 3859 | J15: 1368 | K15: 557
... B21: 제주 | C21: 33487 | D21: 1027 | E21: 1458 | F21: 12713 | G21: 10392 | H21: 3543 | I21: 2926 | J21: 1055 | K21: 373

Sheet 9. 경영주 성 및 연령별 농가
B1: 9. 경영주 성 및 연령별 농가
I2: (단위 : 가구)
B3: 구분 | C3: 합계 | F3: 40세 미만 | G3: 40~49세 | H3: 50~59세 | I3: 60~69세 | J3: 70세 이상 | K3: 65세이상
D4: 남자 | E4: 여자
B5: 전국 | C5: 1088518 | D5: 894446 | E5: 194072 | F5: 14366 | G5: 84025 | H5: 246824 | I5: 332158 | J5: 411145 | K5: 582005
B6: 서울 | C6: 3911 | D6: 3473 | E6: 438 | F6: 50 | G6: 252 | H6: 1096 | I6: 1542 | J6: 971 | K6: 1727
B7: 부산 | C7: 8068 | D7: 6806 | E7: 1262 | F7: 95 | G7: 502 | H7: 2014 | I7: 3096 | J7: 2361 | K7: 3936
B8: 대구 | C8: 16571 | D8: 14283 | E8: 2288 | F8: 255 | G8: 1488 | H8: 4460 | I8: 5736 | J8: 4632 | K8: 7480
B9: 인천 | C9: 13081 | D9: 11027 | E9: 2054 | F9: 133 | G9: 830 | H9: 3081 | I9: 4112 | J9: 4925 | K9: 7124
B10: 광주 | C10: 12036 | D10: 9710 | E10: 2326 | F10: 168 | G10: 1116 | H10: 2922 | I10: 3896 | J10: 3934 | K10: 5976
B11: 대전 | C11: 9428 | D11: 8335 | E11: 1093 | F11: 110 | G11: 780 | H11: 2559 | I11: 3286 | J11: 2693 | K11: 4268
B12: 울산 | C12: 12385 | D12: 10166 | E12: 2219 | F12: 141 | G12: 1073 | H12: 3222 | I12: 4051 | J12: 3898 | K12: 5908
B13: 세종 | C13: 6571 | D13: 5506 | E13: 1065 | F13: 80 | G13: 461 | H13: 1506 | I13: 2090 | J13: 2434 | K13: 3451
B14: 경기 | C14: 126679 | D14: 111145 | E14: 15534 | F14: 1816 | G14: 10867 | H14: 34960 | I14: 38865 | J14: 40171 | K14: 58448
B15: 강원 | C15: 73082 | D15: 62313 | E15: 10769 | F15: 821 | G15: 5907 | H15: 19416 | I15: 21708 | J15: 25230 | K15: 34962
B16: 충북 | C16: 74611 | D16: 63796 | E16: 10815 | F16: 853 | G16: 5443 | H16: 18829 | I16: 23068 | J16: 26418 | K16: 37003
... B22: 제주 | C22: 33487 | D22: 27379 | E22: 6108 | F22: 1188 | G22: 6016 | H22: 8731 | I22: 8443 | J22: 9109 | K22: 13669

Sheet 10. 경영주 농사경력기간별 농가
B1: 10. 경영주 농사경력기간별 농가
F2: (단위 : 가구)
B3: 구분 | C3: 합계 | D3: 5년미만 | E3: 5~10 | F3: 10~15 | G3: 15~20 | H3: 20년이상
B4: 전국 | C4: 1088518 | D4: 53384 | E4: 86595 | F4: 97929 | G4: 56574 | H4: 794036
B5: 서울 | C5: 3911 | D5: 542 | E5: 837 | F5: 873 | G5: 381 | H5: 1278
B6: 부산 | C6: 8068 | D6: 642 | E6: 988 | F6: 1120 | G6: 515 | H6: 4803
B7: 대구 | C7: 16571 | D7: 1489 | E7: 2428 | F7: 2805 | G7: 1143 | H7: 8706
B8: 인천 | C8: 13081 | D8: 422 | E8: 1005 | F8: 1267 | G8: 796 | H8: 9591
B9: 광주 | C9: 12036 | D9: 901 | E9: 1592 | F9: 1648 | G9: 774 | H9: 7121
B10: 대전 | C10: 9428 | D10: 863 | E10: 1614 | F10: 1718 | G10: 708 | H10: 4525
B11: 울산 | C11: 12385 | D11: 647 | E11: 1302 | F11: 1783 | G11: 813 | H11: 7840
B12: 세종 | C12: 6571 | D12: 300 | E12: 457 | F12: 604 | G12: 359 | H12: 4851
B13: 경기 | C13: 126679 | D13: 4936 | E13: 10275 | F13: 14157 | G13: 8440 | H13: 88871
B14: 강원 | C14: 73082 | D14: 4303 | E14: 7011 | F14: 8075 | G14: 4803 | H14: 48890
B15: 충북 | C15: 74611 | D15: 4585 | E15: 6926 | F15: 7412 | G15: 4417 | H15: 51271
... B21: 제주 | C21: 33487 | D21: 2626 | E21: 3177 | F21: 3801 | G21: 2225 | H21: 21658

Sheet 11. 가구원수별 농가
B1: 11. 가구원수별 농가
I3: (단위 : 가구, 명)
B4: 구분 | C4: 합계 | D4: 1인 | E4: 2인 | F4: 3인 | G4: 4인 | H4: 5인 | I4: 6인 | J4: 7인 이상 | K4: 평균 가구원
B5: 전국 | C5: 1088518 | D5: 201240 | E5: 558915 | F5: 163779 | G5: 96019 | H5: 44429 | I5: 18267 | J5: 5869 | K5: ='농업1.시도별 농가 및 농가인구'!H8/'농업1.시도별 농가 및 농가인구'!D8 -> 2.3604451
B6: 서울 | C6: 3911 | D6: 216 | E6: 1474 | F6: 1018 | G6: 831 | H6: 258 | I6: 86 | J6: 28 | K6: ='농업1.시도별 농가 및 농가인구'!H9/'농업1.시도별 농가 및 농가인구'!D9 -> 2.9544873
B7: 부산 | C7: 8068 | D7: 1045 | E7: 3724 | F7: 1609 | G7: 1079 | H7: 408 | I7: 162 | J7: 41 | K7: ='농업1.시도별 농가 및 농가인구'!H10/'농업1.시도별 농가 및 농가인구'!D10 -> 2.5959346
B8: 대구 | C8: 16571 | D8: 1830 | E8: 7314 | F8: 3512 | G8: 2551 | H8: 936 | I8: 352 | J8: 76 | K8: ='농업1.시도별 농가 및 농가인구'!H11/'농업1.시도별 농가 및 농가인구'!D11 -> 2.6879488
B9: 인천 | C9: 13081 | D9: 1903 | E9: 6689 | F9: 2185 | G9: 1356 | H9: 610 | I9: 253 | J9: 85 | K9: ='농업1.시도별 농가 및 농가인구'!H12/'농업1.시도별 농가 및 농가인구'!D12 -> 2.481003
B10: 광주 | C10: 12036 | D10: 1911 | E10: 5343 | F10: 2201 | G10: 1636 | H10: 719 | I10: 189 | J10: 37 | K10: ='농업1.시도별 농가 및 농가인구'!H13/'농업1.시도별 농가 및 농가인구'!D13 -> 2.5545032
B11: 대전 | C11: 9428 | D11: 867 | E11: 4304 | F11: 2043 | G11: 1400 | H11: 583 | I11: 181 | J11: 50 | K11: ='농업1.시도별 농가 및 농가인구'!H14/'농업1.시도별 농가 및 농가인구'!D14 -> 2.712028
B12: 울산 | C12: 12385 | D12: 2004 | E12: 5459 | F12: 2425 | G12: 1713 | H12: 578 | I12: 167 | J12: 39 | K12: ='농업1.시도별 농가 및 농가인구'!H15/'농업1.시도별 농가 및 농가인구'!D15 -> 2.5214372
B13: 세종 | C13: 6571 | D13: 1092 | E13: 3153 | F13: 1144 | G13: 658 | H13: 336 | I13: 141 | J13: 47 | K13: ='농업1.시도별 농가 및 농가인구'!H16/'농업1.시도별 농가 및 농가인구'!D16 -> 2.485923
B14: 경기 | C14: 126679 | D14: 14187 | E14: 55147 | F14: 24948 | G14: 18348 | H14: 8679 | I14: 3974 | J14: 1396 | K14: ='농업1.시도별 농가 및 농가인구'!H17/'농업1.시도별 농가 및 농가인구'!D17 -> 2.7644677
B15: 강원 | C15: 73082 | D15: 11602 | E15: 38308 | F15: 12223 | G15: 6358 | H15: 2880 | I15: 1270 | J15: 441 | K15: ='농업1.시도별 농가 및 농가인구'!H18/'농업1.시도별 농가 및 농가인구'!D18 -> 2.4023289
B16: 충북 | C16: 74611 | D16: 12002 | E16: 39698 | F16: 11837 | G16: 6407 | H16: 2911 | I16: 1297 | J16: 459 | K16: ='농업1.시도별 농가 및 농가인구'!H19/'농업1.시도별 농가 및 농가인구'!D19 -> 2.3890311
... B22: 제주 | C22: 33487 | D22: 4186 | E22: 13577 | F22: 6260 | G22: 5470 | H22: 2886 | I22: 873 | J22: 235 | K22: ='농업1.시도별 농가 및 농가인구'!H25/'농업1.시도별 농가 및 농가인구'!D25 -> 2.7892615

Sheet 12. 가축사육 농가
B1: 12. 가축사육 농가
F2: (단위 : 가구)
B3: 구분 | C3: 한우 | D3: 육우 | E3: 젖소암컷 | F3: 돼지 | G3: 육계 | H3: 산란계 | I3: 오리
B4: 전국 | C4: 73619 | D4: 3375 | E4: 4433 | F4: 4389 | G4: 10939 | H4: 16504 | I4: 1698
B5: 서울 | C5: 25 | D5: 6 | E5: 5 | F5: 7 | G5: 15 | H5: 36 | I5: 4
B6: 부산 | C6: 80 | D6: 8 | E6: 9 | F6: 14 | G6: 34 | H6: 105 | I6: 27
B7: 대구 | C7: 505 | D7: 33 | E7: 17 | F7: 35 | G7: 90 | H7: 155 | I7: 7
B8: 인천 | C8: 353 | D8: 60 | E8: 44 | F8: 46 | G8: 165 | H8: 389 | I8: 33
B9: 광주 | C9: 185 | D9: 8 | E9: 9 | F9: 14 | G9: 48 | H9: 58 | I9: 18
B10: 대전 | C10: 167 | D10: 3 | E10: 1 | F10: 13 | G10: 88 | H10: 77 | I10: 5
B11: 울산 | C11: 1426 | D11: 19 | E11: 15 | F11: 21 | G11: 117 | H11: 292 | I11: 41
B12: 세종 | C12: 532 | D12: 31 | E12: 61 | F12: 34 | G12: 77 | H12: 129 | I12: 9
B13: 경기 | C13: 4168 | D13: 910 | E13: 1730 | F13: 742 | G13: 1115 | H13: 2133 | I13: 181
B14: 강원 | C14: 6244 | D14: 146 | E14: 207 | F14: 223 | G14: 1704 | H14: 2834 | I14: 166
B15: 충북 | C15: 4675 | D15: 207 | E15: 255 | F15: 214 | G15: 745 | H15: 1105 | I15: 126
... B21: 제주 | C21: 433 | D21: 31 | E21: 26 | F21: 173 | G21: 42 | H21: 41 | I21: 8

Sheet 13. 노지수확 작물별 농가
B1: 13. 노지수확 작물별 농가
F2: (단위 : 가구)
B3: 구분 | C3: 논벼 | D3: 콩 | E3: 감자 | F3: 고구마 | G3: 고추 | H3: 배추
B4: 전국 | C4: 635364 | D4: 367052 | E4: 199137 | F4: 249540 | G4: 303658 | H4: 136867
B5: 서울 | C5: 1068 | D5: 1286 | E5: 1155 | F5: 1536 | G5: 637 | H5: 570
B6: 부산 | C6: 3427 | D6: 1346 | E6: 1363 | F6: 1993 | G6: 2045 | H6: 2221
B7: 대구 | C7: 6887 | D7: 3719 | E7: 2380 | F7: 3053 | G7: 2975 | H7: 2654
B8: 인천 | C8: 7930 | D8: 5510 | E8: 5479 | F8: 7804 | G8: 4724 | H8: 2363
B9: 광주 | C9: 7513 | D9: 3021 | E9: 1143 | F9: 2463 | G9: 2333 | H9: 1791
B10: 대전 | C10: 3934 | D10: 3208 | E10: 2577 | F10: 3362 | G10: 2297 | H10: 1914
B11: 울산 | C11: 7697 | D11: 3699 | E11: 4325 | F11: 4721 | G11: 3590 | H11: 3427
B12: 세종 | C12: 4272 | D12: 2224 | E12: 1068 | F12: 1657 | G12: 1281 | H12: 364
B13: 경기 | C13: 71377 | D13: 54425 | E13: 44607 | F13: 49833 | G13: 37231 | H13: 24734
B14: 강원 | C14: 28746 | D14: 31659 | E14: 31417 | F14: 17221 | G14: 28089 | H14: 14523
B15: 충북 | C15: 41442 | D15: 27982 | E15: 12666 | F15: 15486 | G15: 19197 | H15: 6979
... B21: 제주 | C21: 15 | D21: 5661 | E21: 1274 | F21: 710 | G21: 602 | H21: 685

Sheet 14. 시설수확 작물별 농가
B1: 14. 시설수확 작물별 농가
H2: (단위 : 가구)
B3: 구분 | C3: 시설농가 | D3: 고추 | E3: 수박 | F3: 토마토 | G3: 딸기 | H3: 서양채소 | I3: 포도 | J3: 감귤
B4: 전국 | C4: 125090 | D4: 31766 | E4: 10073 | F4: 10374 | G4: 10096 | H4: 3635 | I4: 4278 | J4: 5755
B5: 서울 | C5: 571 | D5: 93 | E5: 3 | F5: 52 | G5: 6 | H5: 41 | I5: 9 | J5: 0
B6: 부산 | C6: 1298 | D6: 85 | E6: 7 | F6: 479 | G6: 35 | H6: 31 | I6: 3 | J6: 0
B7: 대구 | C7: 1941 | D7: 212 | E7: 116 | F7: 206 | G7: 19 | H7: 33 | I7: 34 | J7: 0
B8: 인천 | C8: 2888 | D8: 1610 | E8: 58 | F8: 189 | G8: 14 | H8: 31 | I8: 22 | J8: 0
B9: 광주 | C9: 1587 | D9: 727 | E9: 46 | F9: 328 | G9: 88 | H9: 99 | I9: 17 | J9: 5
B10: 대전 | C10: 808 | D10: 173 | E10: 9 | F10: 105 | G10: 35 | H10: 15 | I10: 123 | J10: 1
B11: 울산 | C11: 490 | D11: 93 | E11: 4 | F11: 100 | G11: 17 | H11: 7 | I11: 5 | J11: 0
B12: 세종 | C12: 559 | D12: 101 | E12: 73 | F12: 37 | G12: 88 | H12: 10 | I12: 5 | J12: 1
B13: 경기 | C13: 17723 | D13: 6664 | E13: 234 | F13: 1399 | G13: 226 | H13: 548 | I13: 311 | J13: 6
B14: 강원 | C14: 12510 | D14: 5701 | E14: 400 | F14: 1665 | G14: 97 | H14: 896 | I14: 125 | J14: 1
B15: 충북 | C15: 7700 | D15: 1026 | E15: 1228 | F15: 496 | G15: 180 | H15: 178 | I15: 937 | J15: 7
... B21: 제주 | C21: 6660 | D21: 55 | E21: 8 | F21: 89 | G21: 75 | H21: 21 | I21: 5 | J21: 5589

Sheet 15. 주요과수별 재배농가
B1: 15. 주요과수별 재배농가
G2: (단위 : 가구)
B3: 구분 | C3: 사과 | D3: 배 | E3: 복숭아 | F3: 단감 | G3: 포도 | H3: 감귤1) | I3: 떫은감1)
B4: 전국 | C4: 38651 | D4: 15229 | E4: 29535 | F4: 25095 | G4: 27907 | H4: 21020 | I4: 42729
B5: 서울 | C5: 96 | D5: 126 | E5: 75 | F5: 50 | G5: 43 | H5: 10 | I5: 64
B6: 부산 | C6: 149 | D6: 165 | E6: 76 | F6: 485 | G6: 25 | H6: 2 | I6: 404
B7: 대구 | C7: 609 | D7: 137 | E7: 1121 | F7: 832 | G7: 827 | H7: 6 | I7: 1291
B8: 인천 | C8: 85 | D8: 213 | E8: 69 | F8: 64 | G8: 509 | H8: 1 | I8: 80
B9: 광주 | C9: 55 | D9: 120 | E9: 164 | F9: 932 | G9: 102 | H9: 6 | I9: 908
B10: 대전 | C10: 122 | D10: 268 | E10: 282 | F10: 144 | G10: 418 | H10: 2 | I10: 489
B11: 울산 | C11: 260 | D11: 799 | E11: 108 | F11: 1108 | G11: 51 | H11: 2 | I11: 502
B12: 세종 | C12: 47 | D12: 398 | E12: 698 | F12: 7 | G12: 135 | H12: 1 | I12: 46
B13: 경기 | C13: 1125 | D13: 2403 | E13: 1611 | F13: 205 | G13: 3752 | H13: 21 | I13: 318
B14: 강원 | C14: 1374 | D14: 555 | E14: 1226 | F14: 408 | G14: 552 | H14: 3 | I14: 2087
B15: 충북 | C15: 4644 | D15: 686 | E15: 6087 | F15: 93 | G15: 3548 | H15: 15 | I15: 1854
... B21: 제주 | C21: 2 | D21: 7 | E21: 8 | F21: 157 | G21: 11 | H21: 20679 | I21: 25
B22: 주 1): 노지재배, 시설재배 모두 포함

Sheet 16. 농기계별 보유 농가
B1: 16. 농기계별 보유 농가
G2: (단위 : 가구)
B3: 구분 | C3: 경운기 | D3: 트랙터 | E3: 콤바인 | F3: 관리기 | G3: 건조기 | H3: 이앙기 | I3: 과수원 SS분무기
B4: 전국 | C4: 530221 | D4: 250495 | E4: 77023 | F4: 368956 | G4: 310677 | H4: 177039 | I4: 57906
B5: 서울 | C5: 517 | D5: 269 | E5: 39 | F5: 508 | G5: 228 | H5: 79 | I5: 190
B6: 부산 | C6: 3332 | D6: 1736 | E6: 547 | F6: 2916 | G6: 1048 | H6: 966 | I6: 263
B7: 대구 | C7: 6412 | D7: 2010 | E7: 636 | F7: 5160 | G7: 1777 | H7: 1663 | I7: 1067
B8: 인천 | C8: 6626 | D8: 3565 | E8: 1304 | F8: 5135 | G8: 4989 | H8: 2808 | I8: 271
B9: 광주 | C9: 2932 | D9: 1461 | E9: 436 | F9: 1586 | G9: 1078 | H9: 690 | I9: 384
B10: 대전 | C10: 1933 | D10: 626 | E10: 226 | F10: 2194 | G10: 916 | H10: 567 | I10: 444
B11: 울산 | C11: 6127 | D11: 2317 | E11: 1082 | F11: 2864 | G11: 2053 | H11: 2674 | I11: 792
B12: 세종 | C12: 2404 | D12: 1352 | E12: 419 | F12: 2092 | G12: 1700 | H12: 1025 | I12: 532
B13: 경기 | C13: 49317 | D13: 33050 | E13: 8749 | F13: 30375 | G13: 35175 | H13: 21606 | I13: 4288
B14: 강원 | C14: 32743 | D14: 18824 | E14: 4271 | F14: 20107 | G14: 21633 | H14: 12854 | I14: 1332
B15: 충북 | C15: 35309 | D15: 15185 | E15: 4351 | F15: 28687 | G15: 27302 | H15: 11460 | I15: 5614
... B21: 제주 | C21: 11634 | D21: 3567 | E21: 434 | F21: 7367 | G21: 1064 | H21: 160 | I21: 2136

Sheet 17. 정보화 및 자동차보유 현황별 농가
B1: 17. 정보화 및 자동차보유 현황별 농가
K2: (단위 : 가구)
B3: 구분 | C3: 컴퓨터 보유가구 | D3: 컴퓨터 활용 가구 | J3: 자동차 보유가구
E4: 농림산물 판매 | F4: 농산촌 관광사업 | G4: 농림업 경영 | H4: 농림업 관련정보 수집 | I4: 기타 농림업에 활용 | K4: 승용차 (10인승이하) | L4: 승합차 (11인승이상) | M4: 화물및기타
B5: 전국 | C5: 475424 | D5: 142587 | E5: 25583 | F5: 3180 | G5: 13403 | H5: 113061 | I5: 23392 | J5: 936904 | K5: 520042 | L5: 27271 | M5: 705970
B6: 서울 | C6: 2975 | D6: 1169 | E6: 113 | F6: 15 | G6: 133 | H6: 1080 | I6: 113 | J6: 3501 | K6: 3037 | L6: 141 | M6: 1084
B7: 부산 | C7: 4054 | D7: 1760 | E7: 176 | F7: 18 | G7: 145 | H7: 1300 | I7: 453 | J7: 7250 | K7: 5202 | L7: 324 | M7: 4501
B8: 대구 | C8: 9148 | D8: 2404 | E8: 272 | F8: 36 | G8: 198 | H8: 2078 | I8: 354 | J8: 15306 | K8: 11227 | L8: 466 | M8: 8875
B9: 인천 | C9: 5661 | D9: 1640 | E9: 265 | F9: 67 | G9: 169 | H9: 1324 | I9: 260 | J9: 11445 | K9: 6805 | L9: 377 | M9: 8035
B10: 광주 | C10: 5838 | D10: 1495 | E10: 280 | F10: 36 | G10: 191 | H10: 1221 | I10: 255 | J10: 10165 | K10: 7005 | L10: 327 | M10: 4944
B11: 대전 | C11: 5711 | D11: 1957 | E11: 170 | F11: 25 | G11: 186 | H11: 1617 | I11: 374 | J11: 8310 | K11: 6413 | L11: 313 | M11: 3565
B12: 울산 | C12: 6621 | D12: 2506 | E12: 151 | F12: 35 | G12: 209 | H12: 1885 | I12: 556 | J12: 11054 | K12: 8042 | L12: 334 | M12: 6613
B13: 세종 | C13: 2881 | D13: 580 | E13: 144 | F13: 19 | G13: 78 | H13: 486 | I13: 69 | J13: 5681 | K13: 3481 | L13: 167 | M13: 4136
B14: 경기 | C14: 68265 | D14: 20541 | E14: 2319 | F14: 445 | G14: 2055 | H14: 16507 | I14: 3485 | J14: 113855 | K14: 82591 | L14: 4191 | M14: 71399
B15: 강원 | C15: 35590 | D15: 13143 | E15: 2178 | F15: 377 | G15: 1077 | H15: 10650 | I15: 1872 | J15: 63629 | K15: 40007 | L15: 2596 | M15: 45185
B16: 충북 | C16: 35177 | D16: 11322 | E16: 2137 | F16: 195 | G16: 885 | H16: 8878 | I16: 1910 | J16: 65825 | K16: 36527 | L16: 2214 | M16: 49371
... B22: 제주 | C22: 20788 | D22: 6776 | E22: 1645 | F22: 196 | G22: 608 | H22: 5213 | I22: 1086 | J22: 31019 | K22: 21354 | L22: 876 | M22: 20665

Sheet 18. 주거시설형태별 농가
B1: 18. 주거시설형태별 농가
D2: (단위 : 가구)
B3: 구분 | C3: 입식부엌 | D3: 온수시설 | E3: 수세식화장실 | F3: 상수도
B4: 전국 | C4: 1074669 | D4: 1066701 | E4: 1044048 | F4: 1015251
B5: 서울 | C5: 3886 | D5: 3882 | E5: 3879 | F5: 3881
B6: 부산 | C6: 7933 | D6: 7950 | E6: 7741 | F6: 8021
B7: 대구 | C7: 16353 | D7: 16273 | E7: 15692 | F7: 16483
B8: 인천 | C8: 12891 | D8: 12842 | E8: 12686 | F8: 12410
B9: 광주 | C9: 11946 | D9: 11876 | E9: 11862 | F9: 11294
B10: 대전 | C10: 9356 | D10: 9321 | E10: 9289 | F10: 8919
B11: 울산 | C11: 12250 | D11: 12059 | E11: 12031 | F11: 12260
B12: 세종 | C12: 6524 | D12: 6490 | E12: 6438 | F12: 5172
B13: 경기 | C13: 125797 | D13: 125422 | E13: 124925 | F13: 115685
B14: 강원 | C14: 71733 | D14: 71104 | E14: 69333 | F14: 63533
B15: 충북 | C15: 73711 | D15: 73097 | E15: 72041 | F15: 69733
... B21: 제주 | C21: 33354 | D21: 33317 | E21: 33175 | F21: 33469

Sheet 어업1.시도별 어가 및 어가인구
B1: [어 업 : 해수면]
B3: 1. 시도별 어가 및 어가인구
H4: (단위 : 가구, 명, %)
B5: 구분 | C5: 어가 | G5: 어가인구
C6: 2010 | D6: 2015 | F6: 증감률 | G6: 2010 | H6: 2015 | J6: 증감률
E7: 구성비 | I7: 구성비
B8: 전국 | C8: 65775 | D8: =SUM(D9:D23) -> 54793 | E8: 100 | F8: =((D8-C8)/C8)*100 -> -16.696313 | G8: 171191 | H8: =SUM(H9:H23) -> 128352 | I8: 100 | J8: =((H8-G8)/G8)*100 -> -25.024096
B9: 서울 | C9: 7 | D9: 9 | E9: =(D9/$D$8)*100 -> 0.016425456 | F9: =((D9-C9)/C9)*100 -> 28.571429 | G9: 25 | H9: 26 | I9: 0 | J9: =((H9-G9)/G9)*100 -> 4
B10: 부산 | C10: 2469 | D10: 2203 | E10: =(D10/$D$8)*100 -> 4.0205866 | F10: =((D10-C10)/C10)*100 -> -10.773593 | G10: 7408 | H10: 5733 | I10: 4.3 | J10: =((H10-G10)/G10)*100 -> -22.610691
B11: 대구 | C11: 8 | D11: 3 | E11: =(D11/$D$8)*100 -> 0.0054751519 | F11: =((D11-C11)/C11)*100 -> -62.5 | G11: 29 | H11: 10 | I11: 0 | J11: =((H11-G11)/G11)*100 -> -65.517241
B12: 인천 | C12: 2678 | D12: 2172 | E12: =(D12/$D$8)*100 -> 3.96401 | F12: =((D12-C12)/C12)*100 -> -18.894698 | G12: 6983 | H12: 5069 | I12: 4.1 | J12: =((H12-G12)/G12)*100 -> -27.409423
B13: 광주 | C13: 12 | D13: 8 | E13: =(D13/$D$8)*100 -> 0.014600405 | F13: =((D13-C13)/C13)*100 -> -33.333333 | G13: 37 | H13: 24 | I13: 0 | J13: =((H13-G13)/G13)*100 -> -35.135135
B14: 대전 | C14: 4 | D14: - | E14: 0 | F14: -100 | G14: 17 | H14: - | I14: 0 | J14: -100
B15: 울산 | C15: 1021 | D15: 905 | E15: =(D15/$D$8)*100 -> 1.6516708 | F15: =((D15-C15)/C15)*100 -> -11.36141 | G15: 2932 | H15: 2292 | I15: 1.7 | J15: =((H15-G15)/G15)*100 -> -21.828104
B16: 경기 | C16: 844 | D16: 762 | E16: =(D16/$D$8)*100 -> 1.3906886 | F16: =((D16-C16)/C16)*100 -> -9.7156398 | G16: 2475 | H16: 1843 | I16: 1.4 | J16: =((H16-G16)/G16)*100 -> -25.535354
B17: 강원 | C17: 3039 | D17: 2292 | E17: =(D17/$D$8)*100 -> 4.1830161 | F17: =((D17-C17)/C17)*100 -> -24.580454 | G17: 8320 | H17: 5669 | I17: 4.9 | J17: =((H17-G17)/G17)*100 -> -31.862981
B18: 충남 | C18: 11021 | D18: 8162 | E18: =(D18/$D$8)*100 -> 14.896063 | F18: =((D18-C18)/C18)*100 -> -25.941385 | G18: 27302 | H18: 18076 | I18: 15.9 | J18: =((H18-G18)/G18)*100 -> -33.792396
B19: 전북 | C19: 2633 | D19: 2908 | E19: =(D19/$D$8)*100 -> 5.3072473 | F19: =((D19-C19)/C19)*100 -> 10.44436 | G19: 6771 | H19: 6434 | I19: 4 | J19: =((H19-G19)/G19)*100 -> -4.9771083
B20: 전남 | C20: 21809 | D20: 18819 | E20: =(D20/$D$8)*100 -> 34.345628 | F20: =((D20-C20)/C20)*100 -> -13.709936 | G20: 54981 | H20: 43818 | I20: 32.1 | J20: =((H20-G20)/G20)*100 -> -20.303378
B21: 경북 | C21: 4069 | D21: 3017 | E21: =(D21/$D$8)*100 -> 5.5061778 | F21: =((D21-C21)/C21)*100 -> -25.854018 | G21: 10422 | H21: 6865 | I21: 6.1 | J21: =((H21-G21)/G21)*100 -> -34.129726
B22: 경남 | C22: 10768 | D22: 9417 | E22: =(D22/$D$8)*100 -> 17.186502 | F22: =((D22-C22)/C22)*100 -> -12.546434 | G22: 28916 | H22: 22609 | I22: 16.9 | J22: =((H22-G22)/G22)*100 -> -21.811454
B23: 제주 | C23: 5393 | D23: 4116 | E23: =(D23/$D$8)*100 -> 7.5119085 | F23: =((D23-C23)/C23)*100 -> -23.678843 | G23: 14573 | H23: 9884 | I23: 8.5 | J23: =((H23-G23)/G23)*100 -> -32.175942

Sheet 2. 시군구별 어가 및 어가인구
B1: 2. 시군구별 어가 및 어가인구
F2: (단위 : 가구, 명)
B3: 구분 | D3: 어가 | E3: 어가인구
E4: 합계 | F4: 남자 | G4: 여자
B5: 전국 | D5: 54793 | E5: 128352 | F5: 64443 | G5: 63909
B6: 서울특별시 | D6: 9 | E6: 26 | F6: 15 | G6: 11
C7: 종로구 | D7: 1 | E7: 2 | F7: 1 | G7: 1
C8: 양천구 | D8: 2 | E8: 6 | F8: 3 | G8: 3
C9: 영등포구 | D9: 2 | E9: 6 | F9: 4 | G9: 2
C10: 관악구 | D10: 1 | E10: 4 | F10: 3 | G10: 1
C11: 강남구 | D11: 2 | E11: 5 | F11: 3 | G11: 2
C12: 송파구 | D12: 1 | E12: 3 | F12: 1 | G12: 2
B13: 부산광역시 | D13: 2203 | E13: 5733 | F13: 2875 | G13: 2858
C14: 중구 | D14: 1 | E14: 4 | F14: 1 | G14: 3
C15: 서구 | D15: 81 | E15: 216 | F15: 106 | G15: 110
C16: 동구 | D16: 2 | E16: 5 | F16: 1 | G16: 4
C17: 영도구 | D17: 239 | E17: 590 | F17: 266 | G17: 324
C18: 부산진구 | D18: 2 | E18: 8 | F18: 3 | G18: 5
C19: 동래구 | D19: 2 | E19: 6 | F19: 3 | G19: 3
C20: 남구 | D20: 72 | E20: 198 | F20: 100 | G20: 98
C21: 북구 | D21: 5 | E21: 15 | F21: 8 | G21: 7
C22: 해운대구 | D22: 189 | E22: 513 | F22: 251 | G22: 262
C23: 사하구 | D23: 482 | E23: 1249 | F23: 635 | G23: 614
C24: 금정구 | D24: 1 | E24: 3 | F24: 1 | G24: 2
C25: 강서구 | D25: 522 | E25: 1260 | F25: 658 | G25: 602
... C29: 기장군 | D29: 489 | E29: 1332 | F29: 667 | G29: 665
B30: 대구광역시 | D30: 3 | E30: 10 | F30: 5 | G30: 5
C31: 동구 | D31: 1 | E31: 5 | F31: 2 | G31: 3
C32: 북구 | D32: 1 | E32: 3 | F32: 2 | G32: 1
C33: 수성구 | D33: 1 | E33: 2 | F33: 1 | G33: 1
B34: 인천광역시 | D34: 2172 | E34: 5069 | F34: 2552 | G34: 2517
C35: 중구 | D35: 514 | E35: 1129 | F35: 575 | G35: 554
C36: 동구 | D36: 22 | E36: 60 | F36: 31 | G36: 29
C37: 남구 | D37: 34 | E37: 101 | F37: 47 | G37: 54
C38: 연수구 | D38: 38 | E38: 117 | F38: 56 | G38: 61
C39: 남동구 | D39: 101 | E39: 350 | F39: 178 | G39: 172
C40: 부평구 | D40: 7 | E40: 26 | F40: 12 | G40: 14
C41: 서구 | D41: 14 | E41: 34 | F41: 17 | G41: 17
C42: 강화군 | D42: 329 | E42: 829 | F42: 432 | G42: 397
C43: 옹진군 | D43: 1113 | E43: 2423 | F43: 1204 | G43: 1219
B44: 광주광역시 | D44: 8 | E44: 24 | F44: 14 | G44: 10
C45: 동구 | D45: 2 | E45: 6 | F45: 3 | G45: 3
C46: 서구 | D46: 1 | E46: 2 | F46: 1 | G46: 1
C47: 남구 | D47: 1 | E47: 4 | F47: 2 | G47: 2
C48: 북구 | D48: 3 | E48: 11 | F48: 7 | G48: 4
C49: 광산구 | D49: 1 | E49: 1 | F49: 1 | G49: 0
B50: 울산광역시 | D50: 905 | E50: 2292 | F50: 1125 | G50: 1167
C51: 중구 | D51: 14 | E51: 45 | F51: 24 | G51: 21
C52: 남구 | D52: 26 | E52: 81 | F52: 41 | G52: 40
C53: 동구 | D53: 203 | E53: 483 | F53: 233 | G53: 250
C54: 북구 | D54: 231 | E54: 574 | F54: 288 | G54: 286
C55: 울주군 | D55: 431 | E55: 1109 | F55: 539 | G55: 570
B56: 경기도 | D56: 762 | E56: 1843 | F56: 955 | G56: 888
C57: 수원시 | D57: 3 | E57: 10 | F57: 6 | G57: 4
C58: 장안구 | D58: 1 | E58: 3 | F58: 2 | G58: 1
C59: 권선구 | D59: 1 | E59: 4 | F59: 2 | G59: 2
C60: 영통구 | D60: 1 | E60: 3 | F60: 2 | G60: 1
C61: 부천시 | D61: 5 | E61: 18 | F61: 10 | G61: 8
C62: 원미구 | D62: 5 | E62: 18 | F62: 10 | G62: 8
C63: 평택시 | D63: 27 | E63: 77 | F63: 41 | G63: 36
C64: 안산시 | D64: 200 | E64: 483 | F64: 240 | G64: 243
C65: 상록구 | D65: 2 | E65: 6 | F65: 3 | G65: 3
C66: 단원구 | D66: 198 | E66: 477 | F66: 237 | G66: 240
C67: 고양시 | D67: 3 | E67: 7 | F67: 2 | G67: 5
C68: 덕양구 | D68: 1 | E68: 4 | F68: 1 | G68: 3
C69: 일산동구 | D69: 1 | E69: 1 | F69: . | G69: 1
C70: 일산서구 | D70: 1 | E70: 2 | F70: 1 | G70: 1
C71: 남양주시 | D71: 2 | E71: 5 | F71: 2 | G71: 3
C72: 시흥시 | D72: 49 | E72: 158 | F72: 83 | G72: 75
C73: 군포시 | D73: 2 | E73: 3 | F73: 1 | G73: 2
C74: 용인시 | D74: 2 | E74: 8 | F74: 4 | G74: 4
C75: 수지구 | D75: 2 | E75: 8 | F75: 4 | G75: 4
C76: 김포시 | D76: 25 | E76: 66 | F76: 36 | G76: 30
C77: 화성시 | D77: 443 | E77: 1007 | F77: 529 | G77: 478
C78: 여주시 | D78: 1 | E78: 1 | F78: 1 | G78: .
B79: 강원도 | D79: 2292 | E79: 5669 | F79: 2961 | G79: 2708
C80: 원주시 | D80: 1 | E80: 2 | F80: 1 | G80: 1
C81: 강릉시 | D81: 555 | E81: 1367 | F81: 722 | G81: 645
C82: 동해시 | D82: 218 | E82: 554 | F82: 290 | G82: 264
C83: 속초시 | D83: 277 | E83: 738 | F83: 391 | G83: 347
C84: 삼척시 | D84: 363 | E84: 885 | F84: 459 | G84: 426
C85: 인제군 | D85: 1 | E85: 4 | F85: 2 | G85: 2
C86: 고성군 | D86: 683 | E86: 1603 | F86: 828 | G86: 775
C87: 양양군 | D87: 194 | E87: 516 | F87: 268 | G87: 248
B88: 충청남도 | D88: 8162 | E88: 18076 | F88: 8641 | G88: 9435
C89: 공주시 | D89: 1 | E89: 2 | F89: 1 | G89: 1
C90: 보령시 | D90: 2111 | E90: 4709 | F90: 2291 | G90: 2418
C91: 아산시 | D91: 6 | E91: 15 | F91: 9 | G91: 6
C92: 서산시 | D92: 715 | E92: 1607 | F92: 746 | G92: 861
C93: 논산시 | D93: 1 | E93: 3 | F93: 2 | G93: 1
C94: 당진시 | D94: 685 | E94: 1590 | F94: 770 | G94: 820
C95: 부여군 | D95: 1 | E95: 2 | F95: 1 | G95: 1
C96: 서천군 | D96: 877 | E96: 2153 | F96: 1092 | G96: 1061
C97: 홍성군 | D97: 258 | E97: 602 | F97: 279 | G97: 323
C98: 예산군 | D98: 2 | E98: 8 | F98: 4 | G98: 4
C99: 태안군 | D99: 3505 | E99: 7385 | F99: 3446 | G99: 3939
B100: 전라북도 | D100: 2908 | E100: 6434 | F100: 3259 | G100: 3175
C101: 전주시 | D101: 3 | E101: 8 | F101: 3 | G101: 5
C102: 완산구 | D102: 3 | E102: 8 | F102: 3 | G102: 5
C103: 군산시 | D103: 746 | E103: 1659 | F103: 905 | G103: 754
...

Sheet 3. 연령별 어가인구
B1: 3. 연령별 어가인구
I2: (단위 : 명)
B3: 구분 | C3: 합계 | D3: 15세 미만 | E3: 15~29 | F3: 30~39 | G3: 40~49 | H3: 50~59 | I3: 60~69 | J3: 70세이상 | K3: 65세이상
B4: 전국 | C4: 128352 | D4: 8604 | E4: 9901 | F4: 8176 | G4: 13364 | H4: 31860 | I4: 32675 | J4: 23772 | K4: 39113
B5: 서울 | C5: 26 | D5: 0 | E5: 6 | F5: 2 | G5: 1 | H5: 6 | I5: 8 | J5: 3 | K5: 6
B6: 부산 | C6: 5733 | D6: 332 | E6: 708 | F6: 532 | G6: 572 | H6: 1284 | I6: 1455 | J6: 850 | K6: 1548
B7: 대구 | C7: 10 | D7: 0 | E7: 4 | F7: 0 | G7: 1 | H7: 3 | I7: 2 | J7: 0 | K7: 0
B8: 인천 | C8: 5069 | D8: 253 | E8: 472 | F8: 279 | G8: 558 | H8: 1312 | I8: 1164 | J8: 1031 | K8: 1581
B9: 광주 | C9: 24 | D9: 0 | E9: 7 | F9: 2 | G9: 7 | H9: 3 | I9: 3 | J9: 2 | K9: 3
B10: 울산 | C10: 2292 | D10: 153 | E10: 248 | F10: 224 | G10: 191 | H10: 471 | I10: 596 | J10: 409 | K10: 684
B11: 경기 | C11: 1843 | D11: 98 | E11: 232 | F11: 95 | G11: 209 | H11: 482 | I11: 420 | J11: 307 | K11: 487
B12: 강원 | C12: 5669 | D12: 346 | E12: 545 | F12: 326 | G12: 525 | H12: 1772 | I12: 1481 | J12: 674 | K12: 1214
B13: 충남 | C13: 18076 | D13: 1000 | E13: 1160 | F13: 882 | G13: 1685 | H13: 4185 | I13: 4633 | J13: 4531 | K13: 6818
B14: 전북 | C14: 6434 | D14: 453 | E14: 439 | F14: 442 | G14: 818 | H14: 1591 | I14: 1606 | J14: 1085 | K14: 1903
B15: 전남 | C15: 43818 | D15: 3400 | E15: 2879 | F15: 2955 | G15: 5055 | H15: 11102 | I15: 10598 | J15: 7829 | K15: 12922
... B18: 제주 | C18: 9884 | D18: 750 | E18: 977 | F18: 707 | G18: 1014 | H18: 1868 | I18: 2353 | J18: 2215 | K18: 3431

Sheet 4. 어업종사기간별 어가인구(15세이상)
B1: 4. 어업종사기간별 어가인구(15세이상)
H2: (단위 : 명)
B3: 구분 | C3: 15세이상 어가인구 | D3: 어업 종사기간별 | G3: 어업외 종사기간별
D4: 1개월미만 | E4: 1~3개월 | F4: 3개월이상 | G4: 1개월미만 | H4: 1개월이상
B5: 전국 | C5: 119748 | D5: 29604 | E5: 13209 | F5: 76935 | G5: 51837 | H5: 67911
B6: 서울 | C6: 26 | D6: 15 | E6: 0 | F6: 11 | G6: 11 | H6: 15
B7: 부산 | C7: 5401 | D7: 2179 | E7: 197 | F7: 3025 | G7: 3288 | H7: 2113
B8: 대구 | C8: 10 | D8: 6 | E8: 0 | F8: 4 | G8: 4 | H8: 6
B9: 인천 | C9: 4816 | D9: 1190 | E9: 397 | F9: 3229 | G9: 1634 | H9: 3182
B10: 광주 | C10: 24 | D10: 15 | E10: 1 | F10: 8 | G10: 18 | H10: 6
B11: 울산 | C11: 2139 | D11: 766 | E11: 148 | F11: 1225 | G11: 922 | H11: 1217
B12: 경기 | C12: 1745 | D12: 493 | E12: 205 | F12: 1047 | G12: 713 | H12: 1032
B13: 강원 | C13: 5323 | D13: 2070 | E13: 125 | F13: 3128 | G13: 3718 | H13: 1605
B14: 충남 | C14: 17076 | D14: 2967 | E14: 2966 | F14: 11143 | G14: 5370 | H14: 11706
B15: 전북 | C15: 5981 | D15: 1028 | E15: 885 | F15: 4068 | G15: 2369 | H15: 3612
B16: 전남 | C16: 40418 | D16: 6992 | E16: 5100 | F16: 28326 | G16: 16843 | H16: 23575
... B19: 제주 | C19: 9134 | D19: 4225 | E19: 694 | F19: 4215 | G19: 3338 | H19: 5796

Sheet 5. 전 겸업별 어가
B1: 5. 전 · 겸업별 어가
G2: (단위 : 가구)
B3: 구분 | C3: 합계 | D3: 전업 | E3: 겸업
F4: 1종겸업 | G4: 2종겸업
B5: 전국 | C5: 54793 | D5: 15960 | E5: 38833 | F5: 20700 | G5: 18133
B6: 서울 | C6: 9 | D6: 0 | E6: 9 | F6: 2 | G6: 7
B7: 부산 | C7: 2203 | D7: 844 | E7: 1359 | F7: 804 | G7: 555
B8: 대구 | C8: 3 | D8: 0 | E8: 3 | F8: 2 | G8: 1
B9: 인천 | C9: 2172 | D9: 308 | E9: 1864 | F9: 747 | G9: 1117
B10: 광주 | C10: 8 | D10: 4 | E10: 4 | F10: 3 | G10: 1
B11: 울산 | C11: 905 | D11: 197 | E11: 708 | F11: 434 | G11: 274
B12: 경기 | C12: 762 | D12: 195 | E12: 567 | F12: 249 | G12: 318
B13: 강원 | C13: 2292 | D13: 1160 | E13: 1132 | F13: 866 | G13: 266
B14: 충남 | C14: 8162 | D14: 1696 | E14: 6466 | F14: 2730 | G14: 3736
B15: 전북 | C15: 2908 | D15: 738 | E15: 2170 | F15: 873 | G15: 1297
B16: 전남 | C16: 18819 | D16: 5620 | E16: 13199 | F16: 7730 | G16: 5469
... B19: 제주 | C19: 4116 | D19: 804 | E19: 3312 | F19: 1317 | G19: 1995

Sheet 6. 경영형태별 어가
B1: 6. 경영형태별 어가
G2: (단위 : 가구)
B3: 구분 | C3: 합계 | D3: 양식어업 | E3: 어로어업
F4: 어선사용 | G4: 어선비사용
B5: 전국 | C5: 54793 | D5: 13494 | E5: 41299 | F5: 24434 | G5: 16865
B6: 서울 | C6: 9 | D6: 3 | E6: 6 | F6: 6 | G6: 0
B7: 부산 | C7: 2203 | D7: 322 | E7: 1881 | F7: 1506 | G7: 375
B8: 대구 | C8: 3 | D8: 1 | E8: 2 | F8: 2 | G8: 0
B9: 인천 | C9: 2172 | D9: 64 | E9: 2108 | F9: 728 | G9: 1380
B10: 광주 | C10: 8 | D10: 0 | E10: 8 | F10: 7 | G10: 1
B11: 울산 | C11: 905 | D11: 51 | E11: 854 | F11: 513 | G11: 341
B12: 경기 | C12: 762 | D12: 148 | E12: 614 | F12: 302 | G12: 312
B13: 강원 | C13: 2292 | D13: 46 | E13: 2246 | F13: 2099 | G13: 147
B14: 충남 | C14: 8162 | D14: 1951 | E14: 6211 | F14: 2094 | G14: 4117
B15: 전북 | C15: 2908 | D15: 295 | E15: 2613 | F15: 1021 | G15: 1592
B16: 전남 | C16: 18819 | D16: 7737 | E16: 11082 | F16: 6343 | G16: 4739
... B19: 제주 | C19: 4116 | D19: 233 | E19: 3883 | F19: 1226 | G19: 2657

Sheet 7. 수산물 판매금액별 어가
B1: 7. 수산물 판매금액별 어가
K2: (단위 : 가구)
B3: 구분 | C3: 합계 | D3: 판매없음 | E3: 120만원 미만 | F3: 120~ 1천만원 | G3: 1천~ 3천만원 | H3: 3천~ 5천만원 | I3: 5천~ 1억원 | J3: 1억~ 2억원 | K3: 2억원이상
B4: 전국 | C4: 54793 | D4: 1227 | E4: 3636 | F4: 20938 | G4: 11430 | H4: 5549 | I4: 5557 | J4: 3260 | K4: 3196
B5: 서울 | C5: 9 | D5: 1 | E5: 0 | F5: 1 | G5: 3 | H5: 1 | I5: 1 | J5: 1 | K5: 1
B6: 부산 | C6: 2203 | D6: 1 | E6: 33 | F6: 446 | G6: 817 | H6: 360 | I6: 265 | J6: 129 | K6: 152
B7: 대구 | C7: 3 | D7: 0 | E7: 0 | F7: 0 | G7: 0 | H7: 0 | I7: 0 | J7: 2 | K7: 1
B8: 인천 | C8: 2172 | D8: 25 | E8: 304 | F8: 1147 | G8: 279 | H8: 111 | I8: 112 | J8: 92 | K8: 102
B9: 광주 | C9: 8 | D9: 1 | E9: 0 | F9: 2 | G9: 1 | H9: 1 | I9: 2 | J9: 0 | K9: 1
B10: 울산 | C10: 905 | D10: 9 | E10: 67 | F10: 385 | G10: 208 | H10: 94 | I10: 70 | J10: 32 | K10: 40
B11: 경기 | C11: 762 | D11: 2 | E11: 33 | F11: 322 | G11: 172 | H11: 67 | I11: 75 | J11: 39 | K11: 52
B12: 강원 | C12: 2292 | D12: 4 | E12: 17 | F12: 371 | G12: 771 | H12: 409 | I12: 421 | J12: 173 | K12: 126
B13: 충남 | C13: 8162 | D13: 308 | E13: 472 | F13: 4539 | G13: 1479 | H13: 478 | I13: 409 | J13: 236 | K13: 241
B14: 전북 | C14: 2908 | D14: 57 | E14: 140 | F14: 1596 | G14: 523 | H14: 229 | I14: 199 | J14: 113 | K14: 51
B15: 전남 | C15: 18819 | D15: 351 | E15: 1489 | F15: 6148 | G15: 3560 | H15: 2128 | I15: 2430 | J15: 1541 | K15: 1172
... B18: 제주 | C18: 4116 | D18: 24 | E18: 201 | F18: 2312 | G18: 665 | H18: 197 | I18: 232 | J18: 149 | K18: 336

Sheet 8. 경영주 성 및 연령별 어가
B1: 8. 경영주 성 및 연령별 어가
K2: (단위 : 가구)
B3: 구분 | C3: 합계 | F3: 40세 미만 | G3: 40~49세 | H3: 50~59세 | I3: 60~69세 | J3: 70세 이상 | K3: 65세이상
D4: 남자 | E4: 여자
B5: 전국 | C5: 54793 | D5: 43944 | E5: 10849 | F5: 1526 | G5: 5186 | H5: 15303 | I5: 19062 | J5: 13716 | K5: 23122
B6: 서울 | C6: 9 | D6: 7 | E6: 2 | F6: 0 | G6: 0 | H6: 3 | I6: 4 | J6: 2 | K6: 3
B7: 부산 | C7: 2203 | D7: 1698 | E7: 505 | F7: 62 | G7: 187 | H7: 619 | I7: 850 | J7: 485 | K7: 912
B8: 대구 | C8: 3 | D8: 3 | E8: 0 | F8: 0 | G8: 0 | H8: 2 | I8: 1 | J8: 0 | K8: 0
B9: 인천 | C9: 2172 | D9: 1678 | E9: 494 | F9: 44 | G9: 200 | H9: 659 | I9: 666 | J9: 603 | K9: 926
B10: 광주 | C10: 8 | D10: 7 | E10: 1 | F10: 1 | G10: 3 | H10: 2 | I10: 1 | J10: 1 | K10: 1
B11: 울산 | C11: 905 | D11: 593 | E11: 312 | F11: 28 | G11: 61 | H11: 229 | I11: 362 | J11: 225 | K11: 399
B12: 경기 | C12: 762 | D12: 632 | E12: 130 | F12: 13 | G12: 75 | H12: 246 | I12: 264 | J12: 164 | K12: 285
B13: 강원 | C13: 2292 | D13: 2144 | E13: 148 | F13: 32 | G13: 183 | H13: 819 | I13: 914 | J13: 344 | K13: 682
B14: 충남 | C14: 8162 | D14: 6256 | E14: 1906 | F14: 150 | G14: 579 | H14: 2011 | I14: 2656 | J14: 2766 | K14: 4144
B15: 전북 | C15: 2908 | D15: 2299 | E15: 609 | F15: 112 | G15: 371 | H15: 783 | I15: 990 | J15: 652 | K15: 1180
B16: 전남 | C16: 18819 | D16: 16230 | E16: 2589 | F16: 730 | G16: 2133 | H16: 5274 | I16: 6166 | J16: 4516 | K16: 7630
... B19: 제주 | C19: 4116 | D19: 1444 | E19: 2672 | F19: 60 | G19: 310 | H19: 995 | I19: 1395 | J19: 1356 | K19: 2069

Sheet 9. 경영주 어업경력기간별 어가
B1: 9. 경영주 어업경력기간별 어가
H2: (단위 : 가구)
B3: 구분 | C3: 합계 | D3: 5년미만 | E3: 5~10 | F3: 10~15 | G3: 15~20 | H3: 20년이상
B4: 전국 | C4: 54793 | D4: 2017 | E4: 3189 | F4: 4593 | G4: 3798 | H4: 41196
B5: 서울 | C5: 9 | D5: 2 | E5: 2 | F5: 0 | G5: 1 | H5: 4
B6: 부산 | C6: 2203 | D6: 53 | E6: 105 | F6: 111 | G6: 130 | H6: 1804
B7: 대구 | C7: 3 | D7: 0 | E7: 2 | F7: 0 | G7: 1 | H7: 0
B8: 인천 | C8: 2172 | D8: 90 | E8: 188 | F8: 266 | G8: 204 | H8: 1424
B9: 광주 | C9: 8 | D9: 2 | E9: 2 | F9: 3 | G9: 0 | H9: 1
B10: 울산 | C10: 905 | D10: 26 | E10: 46 | F10: 69 | G10: 61 | H10: 703
B11: 경기 | C11: 762 | D11: 16 | E11: 51 | F11: 58 | G11: 64 | H11: 573
B12: 강원 | C12: 2292 | D12: 111 | E12: 100 | F12: 127 | G12: 136 | H12: 1818
B13: 충남 | C13: 8162 | D13: 179 | E13: 377 | F13: 623 | G13: 494 | H13: 6489
B14: 전북 | C14: 2908 | D14: 81 | E14: 159 | F14: 259 | G14: 196 | H14: 2213
B15: 전남 | C15: 18819 | D15: 823 | E15: 1344 | F15: 1774 | G15: 1391 | H15: 13487
... B18: 제주 | C18: 4116 | D18: 93 | E18: 137 | F18: 232 | G18: 239 | H18: 3415

Sheet 10. 가구원수별 어가
B1: 10. 가구원수별 어가
H2: (단위 : 가구,명)
B3: 구분 | C3: 합계 | D3: 1인 | E3: 2인 | F3: 3인 | G3: 4인 | H3: 5인 | I3: 6인 | J3: 7인 이상 | K3: 평균 가구원
B4: 전국 | C4: 54793 | D4: 9220 | E4: 29644 | F4: 8426 | G4: 4390 | H4: 2056 | I4: 788 | J4: 269 | K4: ='어업1.시도별 어가 및 어가인구'!H8/'어업1.시도별 어가 및 어가인구'!D8 -> 2.342489
B5: 서울 | C5: 9 | D5: 0 | E5: 3 | F5: 4 | G5: 2 | H5: 0 | I5: 0 | J5: 0 | K5: ='어업1.시도별 어가 및 어가인구'!H9/'어업1.시도별 어가 및 어가인구'!D9 -> 2.8888889
B6: 부산 | C6: 2203 | D6: 310 | E6: 974 | F6: 444 | G6: 314 | H6: 97 | I6: 50 | J6: 14 | K6: ='어업1.시도별 어가 및 어가인구'!H10/'어업1.시도별 어가 및 어가인구'!D10 -> 2.6023604
B7: 대구 | C7: 3 | D7: 0 | E7: 1 | F7: 1 | G7: 0 | H7: 1 | I7: 0 | J7: 0 | K7: ='어업1.시도별 어가 및 어가인구'!H11/'어업1.시도별 어가 및 어가인구'!D11 -> 3.3333333
B8: 인천 | C8: 2172 | D8: 421 | E8: 1109 | F8: 318 | G8: 197 | H8: 87 | I8: 30 | J8: 10 | K8: ='어업1.시도별 어가 및 어가인구'!H12/'어업1.시도별 어가 및 어가인구'!D12 -> 2.3337937
B9: 광주 | C9: 8 | D9: 1 | E9: 2 | F9: 1 | G9: 4 | H9: 0 | I9: 0 | J9: 0 | K9: ='어업1.시도별 어가 및 어가인구'!H13/'어업1.시도별 어가 및 어가인구'!D13 -> 3
B10: 울산 | C10: 905 | D10: 167 | E10: 388 | F10: 160 | G10: 115 | H10: 52 | I10: 14 | J10: 9 | K10: ='어업1.시도별 어가 및 어가인구'!H15/'어업1.시도별 어가 및 어가인구'!D15 -> 2.5325967
B11: 경기 | C11: 762 | D11: 150 | E11: 354 | F11: 130 | G11: 80 | H11: 26 | I11: 12 | J11: 10 | K11: ='어업1.시도별 어가 및 어가인구'!H16/'어업1.시도별 어가 및 어가인구'!D16 -> 2.4186352
B12: 강원 | C12: 2292 | D12: 248 | E12: 1252 | F12: 447 | G12: 216 | H12: 86 | I12: 24 | J12: 19 | K12: ='어업1.시도별 어가 및 어가인구'!H17/'어업1.시도별 어가 및 어가인구'!D17 -> 2.4733857
B13: 충남 | C13: 8162 | D13: 1664 | E13: 4501 | F13: 1096 | G13: 543 | H13: 230 | I13: 102 | J13: 26 | K13: ='어업1.시도별 어가 및 어가인구'!H18/'어업1.시도별 어가 및 어가인구'!D18 -> 2.2146533
B14: 전북 | C14: 2908 | D14: 667 | E14: 1493 | F14: 394 | G14: 213 | H14: 105 | I14: 30 | J14: 6 | K14: ='어업1.시도별 어가 및 어가인구'!H19/'어업1.시도별 어가 및 어가인구'!D19 -> 2.2125172
B15: 전남 | C15: 18819 | D15: 3029 | E15: 10632 | F15: 2698 | G15: 1382 | H15: 709 | I15: 278 | J15: 91 | K15: ='어업1.시도별 어가 및 어가인구'!H20/'어업1.시도별 어가 및 어가인구'!D20 -> 2.3283915
B16: 경북 | C16: 3017 | D16: 445 | E16: 1782 | F16: 481 | G16: 189 | H16: 75 | I16: 34 | J16: 11 | K16: ='어업1.시도별 어가 및 어가인구'!H21/'어업1.시도별 어가 및 어가인구'!D21 -> 2.2754392
B17: 경남 | C17: 9417 | D17: 1216 | E17: 5264 | F17: 1620 | G17: 794 | H17: 361 | I17: 126 | J17: 36 | K17: ='어업1.시도별 어가 및 어가인구'!H22/'어업1.시도별 어가 및 어가인구'!D22 -> 2.4008708
B18: 제주 | C18: 4116 | D18: 902 | E18: 1889 | F18: 632 | G18: 341 | H18: 227 | I18: 88 | J18: 37 | K18: ='어업1.시도별 어가 및 어가인구'!H23/'어업1.시도별 어가 및 어가인구'!D23 -> 2.4013605

Sheet 11. 보유어선 척수별 어가
B1: 11. 보유어선 척수별 어가
I2: (단위 : 가구)
B3: 구분 | C3: 합계 | I3: 어선없는 어가
D4: 1척 | E4: 2척 | F4: 3척 | G4: 4척 | H4: 5척 이상
B5: 전국 | C5: 32837 | D5: 27083 | E5: 4502 | F5: 883 | G5: 251 | H5: 118 | I5: 21956
B6: 서울 | C6: 6 | D6: 4 | E6: 2 | F6: 0 | G6: 0 | H6: 0 | I6: 3
B7: 부산 | C7: 1784 | D7: 1538 | E7: 205 | F7: 30 | G7: 9 | H7: 2 | I7: 419
B8: 대구 | C8: 3 | D8: 2 | E8: 0 | F8: 0 | G8: 1 | H8: 0 | I8: 0
B9: 인천 | C9: 805 | D9: 686 | E9: 109 | F9: 8 | G9: 2 | H9: 0 | I9: 1367
B10: 광주 | C10: 7 | D10: 7 | E10: 0 | F10: 0 | G10: 0 | H10: 0 | I10: 1
B11: 울산 | C11: 541 | D11: 499 | E11: 36 | F11: 6 | G11: 0 | H11: 0 | I11: 364
B12: 경기 | C12: 349 | D12: 276 | E12: 53 | F12: 17 | G12: 2 | H12: 1 | I12: 413
B13: 강원 | C13: 1804 | D13: 1724 | E13: 57 | F13: 12 | G13: 7 | H13: 4 | I13: 488
B14: 충남 | C14: 2379 | D14: 2017 | E14: 252 | F14: 77 | G14: 27 | H14: 6 | I14: 5783
B15: 전북 | C15: 1158 | D15: 922 | E15: 188 | F15: 35 | G15: 12 | H15: 1 | I15: 1750
B16: 전남 | C16: 12847 | D16: 9436 | E16: 2642 | F16: 559 | G16: 153 | H16: 57 | I16: 5972
... B19: 제주 | C19: 1138 | D19: 1094 | E19: 38 | F19: 3 | G19: 2 | H19: 1 | I19: 2978

Sheet 12. 동력어선 톤수별 어가
B1: 12. 동력어선 톤수별 어가
G2: (단위 : 가구)
B3: 구분 | C3: 합계 | D3: 2톤미만 | E3: 2~5톤 | F3: 5~10톤 | G3: 10톤이상
B4: 전국 | C4: 32545 | D4: 14895 | E4: 10460 | F4: 5048 | G4: 2142
B5: 서울 | C5: 6 | D5: 2 | E5: 2 | F5: . | G5: 2
B6: 부산 | C6: 1774 | D6: 1070 | E6: 455 | F6: 115 | G6: 134
B7: 대구 | C7: 3 | D7: 0 | E7: 1 | F7: 0 | G7: 2
B8: 인천 | C8: 795 | D8: 192 | E8: 250 | F8: 281 | G8: 72
B9: 광주 | C9: 7 | D9: 5 | E9: 0 | F9: 2 | G9: 0
B10: 울산 | C10: 535 | D10: 334 | E10: 120 | F10: 38 | G10: 43
B11: 경기 | C11: 346 | D11: 113 | E11: 126 | F11: 81 | G11: 26
B12: 강원 | C12: 1802 | D12: 627 | E12: 801 | F12: 219 | G12: 155
B13: 충남 | C13: 2372 | D13: 817 | E13: 852 | F13: 532 | G13: 171
B14: 전북 | C14: 1131 | D14: 494 | E14: 337 | F14: 226 | G14: 74
B15: 전남 | C15: 12693 | D15: 6624 | E15: 3179 | F15: 2209 | G15: 681
B16: 경북 | C16: 2108 | D16: 668 | E16: 748 | F16: 380 | G16: 312
B17: 경남 | C17: 7844 | D17: 3778 | E17: 3140 | F17: 600 | G17: 326
B18: 제주 | C18: 1129 | D18: 171 | E18: 449 | F18: 365 | G18: 144

Sheet 13. 주된 어로 어법별 어가
B1: 13. 주된 어로 어법별 어가
I2: (단위 : 가구)
B3: 구분 | C3: 합계 | D3: 연안복합 | E3: 연안자망 | F3: 연안통발 | G3: 맨손어업 | H3: 나잠어업 | I3: 기타
B4: 전국 | C4: 44657 | D4: 10630 | E4: 6459 | F4: 3635 | G4: 14184 | H4: 3965 | I4: 5784
B5: 서울 | C5: 6 | D5: 2 | E5: 0 | F5: 0 | G5: 0 | H5: 0 | I5: 4
B6: 부산 | C6: 2033 | D6: 615 | E6: 419 | F6: 354 | G6: 8 | H6: 382 | I6: 255
B7: 대구 | C7: 2 | D7: 0 | E7: 0 | F7: 0 | G7: 0 | H7: 0 | I7: 2
B8: 인천 | C8: 2136 | D8: 245 | E8: 235 | F8: 71 | G8: 1381 | H8: 6 | I8: 198
B9: 광주 | C9: 8 | D9: 2 | E9: 2 | F9: 1 | G9: 1 | H9: 0 | I9: 2
B10: 울산 | C10: 886 | D10: 130 | E10: 178 | F10: 147 | G10: 43 | H10: 301 | I10: 87
B11: 경기 | C11: 734 | D11: 85 | E11: 137 | F11: 21 | G11: 422 | H11: 1 | I11: 68
B12: 강원 | C12: 2255 | D12: 766 | E12: 718 | F12: 153 | G12: 23 | H12: 121 | I12: 474
B13: 충남 | C13: 7153 | D13: 797 | E13: 762 | F13: 186 | G13: 4851 | H13: 41 | I13: 516
B14: 전북 | C14: 2794 | D14: 422 | E14: 322 | F14: 37 | G14: 1583 | H14: 2 | I14: 428
B15: 전남 | C15: 12424 | D15: 3582 | E15: 1082 | F15: 1007 | G15: 4951 | H15: 139 | I15: 1663
... B18: 제주 | C18: 3902 | D18: 798 | E18: 43 | F18: 6 | G18: 129 | H18: 2531 | I18: 395

Sheet 14. 주된 어획 품종별 어가
B1: 14. 주된 어획 품종별 어가
I2: (단위 : 가구)
B3: 구분 | C3: 합계 | D3: 어류 | E3: 갑각류 | F3: 패류 | G3: 연체동물류 | H3: 기타 수산동물류 | I3: 해조류
B4: 전국 | C4: 44657 | D4: 14757 | E4: 3505 | F4: 14422 | G4: 8648 | H4: 1139 | I4: 2186
B5: 서울 | C5: 6 | D5: 3 | E5: 0 | F5: 1 | G5: 2 | H5: 0 | I5: 0
B6: 부산 | C6: 2033 | D6: 1294 | E6: 34 | F6: 120 | G6: 292 | H6: 268 | I6: 25
B7: 대구 | C7: 2 | D7: 1 | E7: 0 | F7: 0 | G7: 1 | H7: 0 | I7: 0
B8: 인천 | C8: 2136 | D8: 304 | E8: 350 | F8: 1283 | G8: 143 | H8: 5 | I8: 51
B9: 광주 | C9: 8 | D9: 5 | E9: 0 | F9: 0 | G9: 3 | H9: 0 | I9: 0
B10: 울산 | C10: 886 | D10: 402 | E10: 5 | F10: 57 | G10: 103 | H10: 138 | I10: 181
B11: 경기 | C11: 734 | D11: 85 | E11: 147 | F11: 368 | G11: 117 | H11: 16 | I11: 1
B12: 강원 | C12: 2255 | D12: 883 | E12: 130 | F12: 43 | G12: 1004 | H12: 105 | I12: 90
B13: 충남 | C13: 7153 | D13: 707 | E13: 982 | F13: 4688 | G13: 662 | H13: 56 | I13: 58
B14: 전북 | C14: 2794 | D14: 443 | E14: 364 | F14: 1749 | G14: 163 | H14: 13 | I14: 62
B15: 전남 | C15: 12424 | D15: 3710 | E15: 812 | F15: 3386 | G15: 3715 | H15: 62 | I15: 739
... B18: 제주 | C18: 3902 | D18: 1009 | E18: 4 | F18: 1874 | G18: 242 | H18: 166 | I18: 607

Sheet 15. 주된 양식 품종별 어가
B1: 15. 주된 양식 품종별 어가
I2: (단위 : 가구)
B3: 구분 | C3: 합계 | D3: 어류 | E3: 갑각류 | F3: 패류 | G3: 기타 수산동물류 | H3: 해조류 | I3: 종묘생산
B4: 전국 | C4: 15677 | D4: 1220 | E4: 149 | F4: 8789 | G4: 618 | H4: 4350 | I4: 551
B5: 서울 | C5: 3 | D5: 1 | E5: 0 | F5: 0 | G5: 1 | H5: 1 | I5: 0
B6: 부산 | C6: 398 | D6: 11 | E6: 0 | F6: 9 | G6: 0 | H6: 329 | I6: 49
B7: 대구 | C7: 1 | D7: 1 | E7: 0 | F7: 0 | G7: 0 | H7: 0 | I7: 0
B8: 인천 | C8: 125 | D8: 4 | E8: 13 | F8: 66 | G8: 2 | H8: 37 | I8: 3
B9: 광주 | C9: 0 | D9: 0 | E9: 0 | F9: 0 | G9: 0 | H9: 0 | I9: 0
B10: 울산 | C10: 135 | D10: 6 | E10: 0 | F10: 6 | G10: 0 | H10: 119 | I10: 4
B11: 경기 | C11: 249 | D11: 2 | E11: 6 | F11: 204 | G11: 0 | H11: 35 | I11: 2
B12: 강원 | C12: 70 | D12: 3 | E12: 0 | F12: 13 | G12: 50 | H12: 2 | I12: 2
B13: 충남 | C13: 2347 | D13: 102 | E13: 32 | F13: 1959 | G13: 42 | H13: 138 | I13: 74
B14: 전북 | C14: 432 | D14: 13 | E14: 7 | F14: 221 | G14: 26 | H14: 161 | I14: 4
B15: 전남 | C15: 8434 | D15: 425 | E15: 81 | F15: 4153 | G15: 15 | H15: 3472 | I15: 288
... B18: 제주 | C18: 235 | D18: 194 | E18: 2 | F18: 22 | G18: 4 | H18: 1 | I18: 12

Sheet 16. 주된 양식 방법별 어가
B1: 16. 주된 양식 방법별 어가
J2: (단위 : 가구)
B3: 구분 | C3: 합계 | D3: 가두리 | E3: 연승식 | F3: 투석식 | G3: 살포식 | H3: 지주식 | I3: 부류식 | J3: 기타
B4: 전국 | C4: 15677 | D4: 3186 | E4: 4551 | F4: 392 | G4: 3835 | H4: 1005 | I4: 1534 | J4: 1174
B5: 서울 | C5: 3 | D5: 0 | E5: 1 | F5: 0 | G5: 1 | H5: 0 | I5: 0 | J5: 1
B6: 부산 | C6: 398 | D6: 6 | E6: 293 | F6: 0 | G6: 3 | H6: 4 | I6: 80 | J6: 12
B7: 대구 | C7: 1 | D7: 1 | E7: 0 | F7: 0 | G7: 0 | H7: 0 | I7: 0 | J7: 0
B8: 인천 | C8: 125 | D8: 3 | E8: 10 | F8: 2 | G8: 58 | H8: 16 | I8: 14 | J8: 22
B9: 광주 | C9: 0 | D9: 0 | E9: 0 | F9: 0 | G9: 0 | H9: 0 | I9: 0 | J9: 0
B10: 울산 | C10: 135 | D10: 4 | E10: 76 | F10: 0 | G10: 1 | H10: 11 | I10: 33 | J10: 10
B11: 경기 | C11: 249 | D11: 2 | E11: 0 | F11: 1 | G11: 202 | H11: 2 | I11: 33 | J11: 9
B12: 강원 | C12: 70 | D12: 4 | E12: 43 | F12: 1 | G12: 4 | H12: 0 | I12: 0 | J12: 18
B13: 충남 | C13: 2347 | D13: 115 | E13: 413 | F13: 185 | G13: 1396 | H13: 17 | I13: 119 | J13: 102
B14: 전북 | C14: 432 | D14: 5 | E14: 7 | F14: 14 | G14: 223 | H14: 44 | I14: 116 | J14: 23
B15: 전남 | C15: 8434 | D15: 2616 | E15: 2102 | F15: 168 | G15: 943 | H15: 906 | I15: 1127 | J15: 572
... B18: 제주 | C18: 235 | D18: 19 | E18: 2 | F18: 1 | G18: 1 | H18: 0 | I18: 0 | J18: 212

Sheet 17. 양식면적 규모별 어가
B1: 17. 양식면적 규모별 어가
H2: (단위 : 가구)
B3: 구분 | C3: 합계 | D3: 1ha미만 | E3: 1~3ha | F3: 3~6ha | G3: 6~10ha | H3: 10ha이상
B4: 전국 | C4: 15677 | D4: 6136 | E4: 4109 | F4: 2280 | G4: 1182 | H4: 1970
B5: 서울 | C5: 3 | D5: 0 | E5: 0 | F5: 1 | G5: 0 | H5: 2
B6: 부산 | C6: 398 | D6: 116 | E6: 185 | F6: 74 | G6: 19 | H6: 4
B7: 대구 | C7: 1 | D7: 1 | E7: 0 | F7: 0 | G7: 0 | H7: 0
B8: 인천 | C8: 125 | D8: 42 | E8: 39 | F8: 30 | G8: 6 | H8: 8
B9: 광주 | C9: 0 | D9: 0 | E9: 0 | F9: 0 | G9: 0 | H9: 0
B10: 울산 | C10: 135 | D10: 93 | E10: 30 | F10: 5 | G10: 1 | H10: 6
B11: 경기 | C11: 249 | D11: 205 | E11: 8 | F11: 2 | G11: 0 | H11: 34
B12: 강원 | C12: 70 | D12: 14 | E12: 12 | F12: 7 | G12: 6 | H12: 31
B13: 충남 | C13: 2347 | D13: 1563 | E13: 486 | F13: 113 | G13: 39 | H13: 146
B14: 전북 | C14: 432 | D14: 76 | E14: 161 | F14: 64 | G14: 15 | H14: 116
B15: 전남 | C15: 8434 | D15: 2293 | E15: 2197 | F15: 1538 | G15: 940 | H15: 1466
... B18: 제주 | C18: 235 | D18: 192 | E18: 23 | F18: 10 | G18: 2 | H18: 8

Sheet 18. 정보화 및 자동차보유 현황별 어가
B1: 18. 정보화 및 자동차보유 현황별 어가
M2: (단위 : 가구)
B3: 구분 | C3: 컴퓨터 보유 가구 | D3: 컴퓨터 활용 가구 | J3: 자동차 보유 가구
E4: 수산물 판매 | F4: 어촌 관광 사업 | G4: 어업 경영 | H4: 어업 관련 정보수집 | I4: 기타 어업에 활용 | K4: 승용차 (10인승 이하) | L4: 승합차 (11인승 이상) | M4: 화물 및 기타
B5: 전국 | C5: 22760 | D5: 6324 | E5: 1043 | F5: 430 | G5: 2277 | H5: 3772 | I5: 210 | J5: 44570 | K5: 24253 | L5: 1271 | M5: 33393
B6: 서울 | C6: 8 | D6: 1 | E6: 0 | F6: 0 | G6: 0 | H6: 1 | I6: 0 | J6: 8 | K6: 8 | L6: 0 | M6: 3
B7: 부산 | C7: 940 | D7: 326 | E7: 27 | F7: 14 | G7: 103 | H7: 233 | I7: 17 | J7: 1612 | K7: 1181 | L7: 40 | M7: 770
B8: 대구 | C8: 3 | D8: 2 | E8: 0 | F8: 0 | G8: 2 | H8: 1 | I8: 0 | J8: 3 | K8: 3 | L8: 0 | M8: 1
B9: 인천 | C9: 708 | D9: 202 | E9: 38 | F9: 33 | G9: 53 | H9: 109 | I9: 8 | J9: 1783 | K9: 967 | L9: 93 | M9: 1272
B10: 광주 | C10: 6 | D10: 1 | E10: 0 | F10: 0 | G10: 0 | H10: 1 | I10: 0 | J10: 7 | K10: 5 | L10: 1 | M10: 3
B11: 울산 | C11: 302 | D11: 99 | E11: 11 | F11: 6 | G11: 21 | H11: 62 | I11: 10 | J11: 704 | K11: 483 | L11: 32 | M11: 412
B12: 경기 | C12: 287 | D12: 75 | E12: 15 | F12: 14 | G12: 17 | H12: 53 | I12: 0 | J12: 672 | K12: 386 | L12: 8 | M12: 548
B13: 강원 | C13: 897 | D13: 299 | E13: 32 | F13: 17 | G13: 60 | H13: 209 | I13: 13 | J13: 1974 | K13: 1324 | L13: 70 | M13: 1086
B14: 충남 | C14: 2713 | D14: 733 | E14: 149 | F14: 116 | G14: 172 | H14: 457 | I14: 11 | J14: 6707 | K14: 3716 | L14: 155 | M14: 5408
B15: 전북 | C15: 1257 | D15: 227 | E15: 36 | F15: 29 | G15: 74 | H15: 132 | I15: 6 | J15: 2314 | K15: 1375 | L15: 58 | M15: 1580
B16: 전남 | C16: 8514 | D16: 2440 | E16: 454 | F16: 100 | G16: 1058 | H16: 1404 | I16: 55 | J16: 15357 | K16: 7148 | L16: 299 | M16: 13001
... B19: 제주 | C19: 1891 | D19: 423 | E19: 57 | F19: 17 | G19: 201 | H19: 232 | I19: 11 | J19: 3454 | K19: 1715 | L19: 99 | M19: 2744

Sheet 19. 주거시설형태별 어가
B1: 19. 주거시설형태별 어가
F2: (단위 : 가구)
B3: 구분 | C3: 입식부엌 | D3: 온수시설 | E3: 수세식화장실 | F3: 상수도
B4: 전국 | C4: 54300 | D4: 53981 | E4: 53764 | F4: 52779
B5: 서울 | C5: 9 | D5: 9 | E5: 9 | F5: 9
B6: 부산 | C6: 2182 | D6: 2184 | E6: 2158 | F6: 2203
B7: 대구 | C7: 3 | D7: 3 | E7: 3 | F7: 3
B8: 인천 | C8: 2146 | D8: 2144 | E8: 2133 | F8: 2100
B9: 광주 | C9: 8 | D9: 8 | E9: 8 | F9: 8
B10: 울산 | C10: 899 | D10: 896 | E10: 881 | F10: 903
B11: 경기 | C11: 750 | D11: 751 | E11: 746 | F11: 719
B12: 강원 | C12: 2280 | D12: 2269 | E12: 2236 | F12: 2287
B13: 충남 | C13: 8032 | D13: 8029 | E13: 8020 | F13: 7162
B14: 전북 | C14: 2890 | D14: 2889 | E14: 2877 | F14: 2905
B15: 전남 | C15: 18645 | D15: 18363 | E15: 18398 | F15: 17996
... B18: 제주 | C18: 4106 | D18: 4093 | E18: 4085 | F18: 4114

Sheet 임업1.시도별 임가 및 임가인구
B1: [임 업]
B3: 1. 시도별 임가 및 임가인구
H4: (단위 : 가구, 명, %)
B5: 구분 | C5: 임가 | G5: 임가인구
C6: 2010 | D6: 2015 | F6: 증감률 | G6: 2010 | H6: 2015 | J6: 증감률
E7: 구성비 | I7: 구성비
B8: 전국 | C8: 96108 | D8: =SUM(D9:D25) -> 90510 | E8: 100 | F8: =((D8-C8)/C8)*100 -> -5.8246972 | G8: 253656 | H8: =SUM(H9:H25) -> 217197 | I8: 100 | J8: =((H8-G8)/G8)*100 -> -14.373403
B9: 서울 | C9: 267 | D9: 318 | E9: =(D9/$D$8)*100 -> 0.35134239 | F9: =((D9-C9)/C9)*100 -> 19.101124 | G9: 870 | H9: 933 | I9: =(H9/$H$8)*100 -> 0.42956394 | J9: =((H9-G9)/G9)*100 -> 7.2413793
B10: 부산 | C10: 371 | D10: 421 | E10: =(D10/$D$8)*100 -> 0.46514197 | F10: =((D10-C10)/C10)*100 -> 13.477089 | G10: 1144 | H10: 1165 | I10: =(H10/$H$8)*100 -> 0.53637942 | J10: =((H10-G10)/G10)*100 -> 1.8356643
B11: 대구 | C11: 1160 | D11: 1375 | E11: =(D11/$D$8)*100 -> 1.5191692 | F11: =((D11-C11)/C11)*100 -> 18.534483 | G11: 3588 | H11: 3777 | I11: =(H11/$H$8)*100 -> 1.7389743 | J11: =((H11-G11)/G11)*100 -> 5.2675585
B12: 인천 | C12: 341 | D12: 311 | E12: =(D12/$D$8)*100 -> 0.34360844 | F12: =((D12-C12)/C12)*100 -> -8.797654 | G12: 1003 | H12: 830 | I12: =(H12/$H$8)*100 -> 0.38214156 | J12: =((H12-G12)/G12)*100 -> -17.248255
B13: 광주 | C13: 1079 | D13: 994 | E13: =(D13/$D$8)*100 -> 1.0982212 | F13: =((D13-C13)/C13)*100 -> -7.8776645 | G13: 3188 | H13: 2571 | I13: =(H13/$H$8)*100 -> 1.183718 | J13: =((H13-G13)/G13)*100 -> -19.353827
B14: 대전 | C14: 519 | D14: 677 | E14: =(D14/$D$8)*100 -> 0.74798365 | F14: =((D14-C14)/C14)*100 -> 30.44316 | G14: 1660 | H14: 1937 | I14: =(H14/$H$8)*100 -> 0.89181711 | J14: =((H14-G14)/G14)*100 -> 16.686747
B15: 울산 | C15: 302 | D15: 426 | E15: =(D15/$D$8)*100 -> 0.47066622 | F15: =((D15-C15)/C15)*100 -> 41.059603 | G15: 909 | H15: 1155 | I15: =(H15/$H$8)*100 -> 0.5317753 | J15: =((H15-G15)/G15)*100 -> 27.062706
B16: 세종 | C16: - | D16: 324 | E16: =(D16/$D$8)*100 -> 0.35797149 | F16: - | G16: - | H16: 862 | I16: =(H16/$H$8)*100 -> 0.39687473 | J16: -
B17: 경기 | C17: 4590 | D17: 4082 | E17: =(D17/$D$8)*100 -> 4.5099989 | F17: =((D17-C17)/C17)*100 -> -11.067538 | G17: 14325 | H17: 11869 | I17: =(H17/$H$8)*100 -> 5.4646243 | J17: =((H17-G17)/G17)*100 -> -17.144852
B18: 강원 | C18: 7265 | D18: 7703 | E18: =(D18/$D$8)*100 -> 8.5106618 | F18: =((D18-C18)/C18)*100 -> 6.0289057 | G18: 19807 | H18: 18695 | I18: =(H18/$H$8)*100 -> 8.6073933 | J18: =((H18-G18)/G18)*100 -> -5.6141768
B19: 충북 | C19: 5886 | D19: 6019 | E19: =(D19/$D$8)*100 -> 6.6500939 | F19: =((D19-C19)/C19)*100 -> 2.259599 | G19: 15931 | H19: 14864 | I19: =(H19/$H$8)*100 -> 6.8435568 | J19: =((H19-G19)/G19)*100 -> -6.6976335
B20: 충남 | C20: 8712 | D20: 7894 | E20: =(D20/$D$8)*100 -> 8.7216882 | F20: =((D20-C20)/C20)*100 -> -9.389348 | G20: 23622 | H20: 19579 | I20: =(H20/$H$8)*100 -> 9.0143971 | J20: =((H20-G20)/G20)*100 -> -17.115401
B21: 전북 | C21: 12618 | D21: 11117 | E21: =(D21/$D$8)*100 -> 12.282621 | F21: =((D21-C21)/C21)*100 -> -11.895705 | G21: 33604 | H21: 26872 | I21: =(H21/$H$8)*100 -> 12.372178 | J21: =((H21-G21)/G21)*100 -> -20.033329
B22: 전남 | C22: 14188 | D22: 12684 | E22: =(D22/$D$8)*100 -> 14.013921 | F22: =((D22-C22)/C22)*100 -> -10.600507 | G22: 35613 | H22: 28701 | I22: =(H22/$H$8)*100 -> 13.214271 | J22: =((H22-G22)/G22)*100 -> -19.408643
B23: 경북 | C23: 23555 | D23: 21421 | E23: =(D23/$D$8)*100 -> 23.666998 | F23: =((D23-C23)/C23)*100 -> -9.0596476 | G23: 59223 | H23: 49203 | I23: =(H23/$H$8)*100 -> 22.653628 | J23: =((H23-G23)/G23)*100 -> -16.919102
B24: 경남 | C24: 14052 | D24: 13783 | E24: =(D24/$D$8)*100 -> 15.228152 | F24: =((D24-C24)/C24)*100 -> -1.9143182 | G24: 35465 | H24: 31469 | I24: =(H24/$H$8)*100 -> 14.48869 | J24: =((H24-G24)/G24)*100 -> -11.267447
B25: 제주 | C25: 1203 | D25: 961 | E25: =(D25/$D$8)*100 -> 1.0617611 | F25: =((D25-C25)/C25)*100 -> -20.116376 | G25: 3704 | H25: 2715 | I25: =(H25/$H$8)*100 -> 1.2500173 | J25: =((H25-G25)/G25)*100 -> -26.700864

Sheet 2. 시군구별 임가 및 임가인구
B1: 2. 시군구별 임가 및 임가인구
F2: (단위 : 가구, 명)
B3: 구분 | D3: 임가 | E3: 임가인구
E4: 합계 | F4: 남자 | G4: 여자
B5: 전국 | D5: 90510 | E5: 217197 | F5: 109406 | G5: 107791
B6: 서울특별시 | D6: 318 | E6: 933 | F6: 481 | G6: 452
C7: 종로구 | D7: 7 | E7: 17 | F7: 8 | G7: 9
C8: 중구 | D8: 4 | E8: 11 | F8: 5 | G8: 6
C9: 용산구 | D9: 4 | E9: 9 | F9: 5 | G9: 4
C10: 성동구 | D10: 6 | E10: 19 | F10: 10 | G10: 9
C11: 광진구 | D11: 12 | E11: 37 | F11: 20 | G11: 17
C12: 동대문구 | D12: 6 | E12: 20 | F12: 10 | G12: 10
C13: 중랑구 | D13: 21 | E13: 60 | F13: 33 | G13: 27
C14: 성북구 | D14: 5 | E14: 15 | F14: 6 | G14: 9
C15: 강북구 | D15: 5 | E15: 15 | F15: 9 | G15: 6
C16: 도봉구 | D16: 7 | E16: 14 | F16: 7 | G16: 7
C17: 노원구 | D17: 11 | E17: 37 | F17: 20 | G17: 17
C18: 은평구 | D18: 15 | E18: 53 | F18: 26 | G18: 27
... C31: 강동구 | D31: 32 | E31: 87 | F31: 44 | G31: 43
B32: 부산광역시 | D32: 421 | E32: 1165 | F32: 602 | G32: 563
C33: 중구 | D33: 3 | E33: 10 | F33: 5 | G33: 5
C34: 서구 | D34: 4 | E34: 11 | F34: 5 | G34: 6
C35: 동구 | D35: 2 | E35: 3 | F35: 1 | G35: 2
C36: 영도구 | D36: 8 | E36: 25 | F36: 10 | G36: 15
C37: 부산진구 | D37: 13 | E37: 39 | F37: 21 | G37: 18
C38: 동래구 | D38: 26 | E38: 85 | F38: 45 | G38: 40
C39: 남구 | D39: 9 | E39: 26 | F39: 15 | G39: 11
C40: 북구 | D40: 30 | E40: 99 | F40: 49 | G40: 50
C41: 해운대구 | D41: 33 | E41: 87 | F41: 45 | G41: 42
C42: 사하구 | D42: 30 | E42: 81 | F42: 43 | G42: 38
C43: 금정구 | D43: 59 | E43: 161 | F43: 82 | G43: 79
C44: 강서구 | D44: 58 | E44: 156 | F44: 76 | G44: 80
... C48: 기장군 | D48: 95 | E48: 244 | F48: 133 | G48: 111
B49: 대구광역시 | D49: 1375 | E49: 3777 | F49: 1965 | G49: 1812
C50: 중구 | D50: 12 | E50: 29 | F50: 17 | G50: 12
C51: 동구 | D51: 377 | E51: 1015 | F51: 527 | G51: 488
C52: 서구 | D52: 51 | E52: 129 | F52: 72 | G52: 57
C53: 남구 | D53: 40 | E53: 94 | F53: 52 | G53: 42
C54: 북구 | D54: 171 | E54: 487 | F54: 247 | G54: 240
C55: 수성구 | D55: 359 | E55: 998 | F55: 518 | G55: 480
C56: 달서구 | D56: 137 | E56: 387 | F56: 205 | G56: 182
C57: 달성군 | D57: 228 | E57: 638 | F57: 327 | G57: 311
B58: 인천광역시 | D58: 311 | E58: 830 | F58: 409 | G58: 421
C59: 중구 | D59: 10 | E59: 23 | F59: 14 | G59: 9
C60: 동구 | D60: 1 | E60: 1 | F60: 1 | G60: .
C61: 남구 | D61: 12 | E61: 34 | F61: 18 | G61: 16
C62: 연수구 | D62: 20 | E62: 73 | F62: 34 | G62: 39
C63: 남동구 | D63: 21 | E63: 54 | F63: 30 | G63: 24
C64: 부평구 | D64: 17 | E64: 50 | F64: 22 | G64: 28
C65: 계양구 | D65: 16 | E65: 43 | F65: 22 | G65: 21
C66: 서구 | D66: 21 | E66: 57 | F66: 29 | G66: 28
C67: 강화군 | D67: 165 | E67: 426 | F67: 208 | G67: 218
C68: 옹진군 | D68: 28 | E68: 69 | F68: 31 | G68: 38
B69: 광주광역시 | D69: 994 | E69: 2571 | F69: 1304 | G69: 1267
C70: 동구 | D70: 33 | E70: 95 | F70: 50 | G70: 45
C71: 서구 | D71: 114 | E71: 331 | F71: 170 | G71: 161
C72: 남구 | D72: 142 | E72: 385 | F72: 200 | G72: 185
C73: 북구 | D73: 232 | E73: 645 | F73: 339 | G73: 306
C74: 광산구 | D74: 473 | E74: 1115 | F74: 545 | G74: 570
B75: 대전광역시 | D75: 677 | E75: 1937 | F75: 1002 | G75: 935
C76: 동구 | D76: 122 | E76: 331 | F76: 171 | G76: 160
C77: 중구 | D77: 102 | E77: 304 | F77: 166 | G77: 138
C78: 서구 | D78: 186 | E78: 546 | F78: 281 | G78: 265
C79: 유성구 | D79: 178 | E79: 521 | F79: 261 | G79: 260
C80: 대덕구 | D80: 89 | E80: 235 | F80: 123 | G80: 112
B81: 울산광역시 | D81: 426 | E81: 1155 | F81: 590 | G81: 565
C82: 중구 | D82: 73 | E82: 193 | F82: 100 | G82: 93
C83: 남구 | D83: 54 | E83: 154 | F83: 75 | G83: 79
C84: 동구 | D84: 25 | E84: 73 | F84: 37 | G84: 36
C85: 북구 | D85: 60 | E85: 163 | F85: 81 | G85: 82
C86: 울주군 | D86: 214 | E86: 572 | F86: 297 | G86: 275
B87: 세종특별자치시 | D87: 324 | E87: 862 | F87: 448 | G87: 414
C88: 세종시 | D88: 324 | E88: 862 | F88: 448 | G88: 414
B89: 경기도 | D89: 4082 | E89: 11869 | F89: 6097 | G89: 5772
C90: 수원시 | D90: 109 | E90: 346 | F90: 180 | G90: 166
C91: 장안구 | D91: 37 | E91: 124 | F91: 60 | G91: 64
C92: 권선구 | D92: 30 | E92: 97 | F92: 53 | G92: 44
C93: 팔달구 | D93: 21 | E93: 53 | F93: 29 | G93: 24
C94: 영통구 | D94: 21 | E94: 72 | F94: 38 | G94: 34
C95: 성남시 | D95: 178 | E95: 533 | F95: 270 | G95: 263
C96: 수정구 | D96: 132 | E96: 379 | F96: 191 | G96: 188
C97: 중원구 | D97: 7 | E97: 23 | F97: 10 | G97: 13
C98: 분당구 | D98: 39 | E98: 131 | F98: 69 | G98: 62
C99: 의정부시 | D99: 39 | E99: 120 | F99: 65 | G99: 55
C100: 안양시 | D100: 46 | E100: 142 | F100: 71 | G100: 71
C101: 만안구 | D101: 17 | E101: 49 | F101: 23 | G101: 26
... C140: 양평군 | D140: 306 | E140: 829 | F140: 421 | G140: 408
B141: 강원도 | D141: 7703 | E141: 18695 | F141: 9632 | G141: 9063
C142: 춘천시 | D142: 293 | E142: 733 | F142: 374 | G142: 359
C143: 원주시 | D143: 442 | E143: 1197 | F143: 619 | G143: 578
C144: 강릉시 | D144: 684 | E144: 1682 | F144: 850 | G144: 832
C145: 동해시 | D145: 187 | E145: 457 | F145: 234 | G145: 223
C146: 태백시 | D146: 159 | E146: 389 | F146: 187 | G146: 202
C147: 속초시 | D147: 36 | E147: 92 | F147: 48 | G147: 44
C148: 삼척시 | D148: 852 | E148: 1873 | F148: 957 | G148: 916
C149: 홍천군 | D149: 854 | E149: 2145 | F149: 1085 | G149: 1060
C150: 횡성군 | D150: 492 | E150: 1188 | F150: 607 | G150: 581
C151: 영월군 | D151: 380 | E151: 880 | F151: 462 | G151: 418
C152: 평창군 | D152: 759 | E152: 1816 | F152: 938 | G152: 878
C153: 정선군 | D153: 720 | E153: 1746 | F153: 929 | G153: 817
...

Sheet 3. 전 겸업별 임가
B1: 3. 전 · 겸업별 임가
E2: (단위 : 가구)
B3: 구분 | C3: 합계 | D3: 전업 | E3: 겸업
B5: 전국 | C5: 90510 | D5: 8504 | E5: 82006
B6: 서울 | C6: 318 | D6: 39 | E6: 279
B7: 부산 | C7: 421 | D7: 59 | E7: 362
B8: 대구 | C8: 1375 | D8: 189 | E8: 1186
B9: 인천 | C9: 311 | D9: 14 | E9: 297
B10: 광주 | C10: 994 | D10: 117 | E10: 877
B11: 대전 | C11: 677 | D11: 62 | E11: 615
B12: 울산 | C12: 426 | D12: 17 | E12: 409
B13: 세종 | C13: 324 | D13: 17 | E13: 307
B14: 경기 | C14: 4082 | D14: 471 | E14: 3611
B15: 강원 | C15: 7703 | D15: 446 | E15: 7257
B16: 충북 | C16: 6019 | D16: 576 | E16: 5443
... B22: 제주 | C22: 961 | D22: 131 | E22: 830

Sheet 4. 경영형태별 임가
B1: 4. 경영형태별 임가
J2: (단위 : 가구)
B3: 구분 | C3: 합계 | D3: 비재배 임업만 경영 | H3: 비재배 및 재배 임업 경영 | L3: 재배 임업만 경영
D4: 육림업 | E4: 벌목업 | F4: 양묘업 | G4: 채취업 | H4: 육림업 | I4: 벌목업 | J4: 양묘업 | K4: 채취업
B5: 전국 | C5: 90510 | D5: 3696 | E5: 248 | F5: 562 | G5: 3551 | H5: 1961 | I5: 120 | J5: 242 | K5: 2634 | L5: 77496
B6: 서울 | C6: 318 | D6: 57 | E6: 1 | F6: 7 | G6: 12 | H6: 15 | I6: 1 | J6: 3 | K6: 4 | L6: 218
B7: 부산 | C7: 421 | D7: 29 | E7: 2 | F7: 2 | G7: 13 | H7: 9 | I7: 0 | J7: 2 | K7: 7 | L7: 357
B8: 대구 | C8: 1375 | D8: 53 | E8: 2 | F8: 11 | G8: 18 | H8: 17 | I8: 0 | J8: 1 | K8: 10 | L8: 1263
B9: 인천 | C9: 311 | D9: 16 | E9: 0 | F9: 3 | G9: 14 | H9: 13 | I9: 0 | J9: 1 | K9: 7 | L9: 257
B10: 광주 | C10: 994 | D10: 33 | E10: 3 | F10: 7 | G10: 11 | H10: 12 | I10: 1 | J10: 4 | K10: 2 | L10: 921
B11: 대전 | C11: 677 | D11: 64 | E11: 3 | F11: 5 | G11: 14 | H11: 17 | I11: 1 | J11: 2 | K11: 13 | L11: 558
B12: 울산 | C12: 426 | D12: 41 | E12: 1 | F12: 2 | G12: 22 | H12: 12 | I12: 0 | J12: 0 | K12: 6 | L12: 342
B13: 세종 | C13: 324 | D13: 23 | E13: 1 | F13: 7 | G13: 16 | H13: 7 | I13: 0 | J13: 3 | K13: 18 | L13: 249
B14: 경기 | C14: 4082 | D14: 406 | E14: 22 | F14: 72 | G14: 152 | H14: 114 | I14: 10 | J14: 21 | K14: 75 | L14: 3210
B15: 강원 | C15: 7703 | D15: 602 | E15: 41 | F15: 50 | G15: 762 | H15: 274 | I15: 11 | J15: 20 | K15: 403 | L15: 5540
B16: 충북 | C16: 6019 | D16: 227 | E16: 30 | F16: 30 | G16: 106 | H16: 129 | I16: 17 | J16: 25 | K16: 102 | L16: 5353
... B22: 제주 | C22: 961 | D22: 52 | E22: 2 | F22: 14 | G22: 32 | H22: 6 | I22: 0 | J22: 1 | K22: 35 | L22: 819

Sheet 5. 경영형태별 (비재배 임업)임가
B1: 5. 경영형태별(비재배 임업) 임가
J2: (단위 : 가구)
B3: 구분 | C3: 합계 | D3: 육림업 | E3: 벌목업 | F3: 양묘업 | G3: 채취업
H4: 송이버섯 | I4: 기타버섯 | J4: 열매류 | K4: 산나물류 | L4: 약용류 | M4: 수액류
B5: 전국 | C5: 13014 | D5: 5657 | E5: 368 | F5: 804 | G5: 6185 | H5: 1457 | I5: 359 | J5: 1178 | K5: 1893 | L5: 508 | M5: 790
B6: 서울 | C6: 100 | D6: 72 | E6: 2 | F6: 10 | G6: 16 | H6: 2 | I6: 0 | J6: 9 | K6: 5 | L6: 0 | M6: 0
B7: 부산 | C7: 64 | D7: 38 | E7: 2 | F7: 4 | G7: 20 | H7: 0 | I7: 3 | J7: 8 | K7: 7 | L7: 2 | M7: 0
B8: 대구 | C8: 112 | D8: 70 | E8: 2 | F8: 12 | G8: 28 | H8: 8 | I8: 1 | J8: 4 | K8: 12 | L8: 2 | M8: 1
B9: 인천 | C9: 54 | D9: 29 | E9: 0 | F9: 4 | G9: 21 | H9: 0 | I9: 0 | J9: 7 | K9: 10 | L9: 4 | M9: 0
B10: 광주 | C10: 73 | D10: 45 | E10: 4 | F10: 11 | G10: 13 | H10: 0 | I10: 2 | J10: 2 | K10: 5 | L10: 2 | M10: 2
B11: 대전 | C11: 119 | D11: 81 | E11: 4 | F11: 7 | G11: 27 | H11: 1 | I11: 2 | J11: 11 | K11: 9 | L11: 4 | M11: 0
B12: 울산 | C12: 84 | D12: 53 | E12: 1 | F12: 2 | G12: 28 | H12: 0 | I12: 3 | J12: 1 | K12: 9 | L12: 5 | M12: 10
B13: 세종 | C13: 75 | D13: 30 | E13: 1 | F13: 10 | G13: 34 | H13: 0 | I13: 5 | J13: 23 | K13: 4 | L13: 2 | M13: 0
B14: 경기 | C14: 872 | D14: 520 | E14: 32 | F14: 93 | G14: 227 | H14: 5 | I14: 18 | J14: 82 | K14: 73 | L14: 35 | M14: 14
B15: 강원 | C15: 2163 | D15: 876 | E15: 52 | F15: 70 | G15: 1165 | H15: 527 | I15: 85 | J15: 62 | K15: 313 | L15: 149 | M15: 29
B16: 충북 | C16: 666 | D16: 356 | E16: 47 | F16: 55 | G16: 208 | H16: 25 | I16: 31 | J16: 47 | K16: 58 | L16: 40 | M16: 7
... B22: 제주 | C22: 142 | D22: 58 | E22: 2 | F22: 15 | G22: 67 | H22: 0 | I22: 12 | J22: 5 | K22: 48 | L22: 2 | M22: 0

Sheet 6. 경영주 성 및 연령별 임가
B1: 6. 경영주 성 및 연령별 임가
H2: (단위 : 가구)
B3: 구분 | C3: 합계 | F3: 40세 미만 | G3: 40~49세 | H3: 50~59세 | I3: 60~69세 | J3: 70세 이상 | K3: 65세이상
D4: 남자 | E4: 여자
B5: 전국 | C5: 90510 | D5: 79050 | E5: 11460 | F5: 1100 | G5: 7585 | H5: 24495 | I5: 30119 | J5: 27211 | K5: 42161
B6: 서울 | C6: 318 | D6: 290 | E6: 28 | F6: 1 | G6: 14 | H6: 104 | I6: 126 | J6: 73 | K6: 130
B7: 부산 | C7: 421 | D7: 383 | E7: 38 | F7: 9 | G7: 28 | H7: 122 | I7: 183 | J7: 79 | K7: 157
B8: 대구 | C8: 1375 | D8: 1223 | E8: 152 | F8: 22 | G8: 115 | H8: 430 | I8: 501 | J8: 307 | K8: 547
B9: 인천 | C9: 311 | D9: 273 | E9: 38 | F9: 4 | G9: 24 | H9: 102 | I9: 118 | J9: 63 | K9: 125
B10: 광주 | C10: 994 | D10: 859 | E10: 135 | F10: 8 | G10: 93 | H10: 278 | I10: 351 | J10: 264 | K10: 449
B11: 대전 | C11: 677 | D11: 613 | E11: 64 | F11: 3 | G11: 51 | H11: 218 | I11: 269 | J11: 136 | K11: 255
B12: 울산 | C12: 426 | D12: 391 | E12: 35 | F12: 5 | G12: 40 | H12: 155 | I12: 149 | J12: 77 | K12: 145
B13: 세종 | C13: 324 | D13: 298 | E13: 26 | F13: 6 | G13: 24 | H13: 97 | I13: 117 | J13: 80 | K13: 133
B14: 경기 | C14: 4082 | D14: 3751 | E14: 331 | F14: 61 | G14: 361 | H14: 1448 | I14: 1342 | J14: 870 | K14: 1405
B15: 강원 | C15: 7703 | D15: 6985 | E15: 718 | F15: 100 | G15: 727 | H15: 2574 | I15: 2567 | J15: 1735 | K15: 2785
B16: 충북 | C16: 6019 | D16: 5455 | E16: 564 | F16: 72 | G16: 543 | H16: 1902 | I16: 2077 | J16: 1425 | K16: 2328
... B22: 제주 | C22: 961 | D22: 815 | E22: 146 | F22: 24 | G22: 147 | H22: 312 | I22: 282 | J22: 196 | K22: 346

Sheet 7. 가구원수별 임가
B1: 7. 가구원수별 임가
H3: (단위 : 가구, 명)
B4: 구분 | C4: 합계 | D4: 1인 | E4: 2인 | F4: 3인 | G4: 4인 | H4: 5인 | I4: 6인 | J4: 7인 이상 | K4: 평균 가구원
B5: 전국 | C5: 90510 | D5: 13572 | E5: 49004 | F5: 14480 | G5: 7811 | H5: 3623 | I5: 1515 | J5: 505 | K5: ='임업1.시도별 임가 및 임가인구'!H8/'임업1.시도별 임가 및 임가인구'!D8 -> 2.3997017
B6: 서울 | C6: 318 | D6: 18 | E6: 117 | F6: 92 | G6: 61 | H6: 22 | I6: 5 | J6: 3 | K6: ='임업1.시도별 임가 및 임가인구'!H9/'임업1.시도별 임가 및 임가인구'!D9 -> 2.9339623
B7: 부산 | C7: 421 | D7: 35 | E7: 180 | F7: 99 | G7: 72 | H7: 26 | I7: 8 | J7: 1 | K7: ='임업1.시도별 임가 및 임가인구'!H10/'임업1.시도별 임가 및 임가인구'!D10 -> 2.7672209
B8: 대구 | C8: 1375 | D8: 134 | E8: 554 | F8: 349 | G8: 238 | H8: 66 | I8: 32 | J8: 2 | K8: ='임업1.시도별 임가 및 임가인구'!H11/'임업1.시도별 임가 및 임가인구'!D11 -> 2.7469091
B9: 인천 | C9: 311 | D9: 32 | E9: 140 | F9: 72 | G9: 44 | H9: 16 | I9: 4 | J9: 3 | K9: ='임업1.시도별 임가 및 임가인구'!H12/'임업1.시도별 임가 및 임가인구'!D12 -> 2.6688103
B10: 광주 | C10: 994 | D10: 128 | E10: 454 | F10: 194 | G10: 151 | H10: 56 | I10: 9 | J10: 2 | K10: ='임업1.시도별 임가 및 임가인구'!H13/'임업1.시도별 임가 및 임가인구'!D13 -> 2.5865191
B11: 대전 | C11: 677 | D11: 40 | E11: 278 | F11: 187 | G11: 103 | H11: 51 | I11: 13 | J11: 5 | K11: ='임업1.시도별 임가 및 임가인구'!H14/'임업1.시도별 임가 및 임가인구'!D14 -> 2.8611521
B12: 울산 | C12: 426 | D12: 31 | E12: 196 | F12: 97 | G12: 76 | H12: 19 | I12: 7 | J12: 0 | K12: ='임업1.시도별 임가 및 임가인구'!H15/'임업1.시도별 임가 및 임가인구'!D15 -> 2.7112676
B13: 세종 | C13: 324 | D13: 39 | E13: 154 | F13: 58 | G13: 39 | H13: 23 | I13: 9 | J13: 2 | K13: ='임업1.시도별 임가 및 임가인구'!H16/'임업1.시도별 임가 및 임가인구'!D16 -> 2.6604938
B14: 경기 | C14: 4082 | D14: 367 | E14: 1631 | F14: 851 | G14: 739 | H14: 307 | I14: 135 | J14: 52 | K14: ='임업1.시도별 임가 및 임가인구'!H17/'임업1.시도별 임가 및 임가인구'!D17 -> 2.9076433
B15: 강원 | C15: 7703 | D15: 1035 | E15: 4145 | F15: 1399 | G15: 664 | H15: 297 | I15: 129 | J15: 34 | K15: ='임업1.시도별 임가 및 임가인구'!H18/'임업1.시도별 임가 및 임가인구'!D18 -> 2.4269765
B16: 충북 | C16: 6019 | D16: 770 | E16: 3283 | F16: 994 | G16: 552 | H16: 247 | I16: 122 | J16: 51 | K16: ='임업1.시도별 임가 및 임가인구'!H19/'임업1.시도별 임가 및 임가인구'!D19 -> 2.4695132
... B22: 제주 | C22: 961 | D22: 101 | E22: 399 | F22: 195 | G22: 141 | H22: 89 | I22: 31 | J22: 5 | K22: ='임업1.시도별 임가 및 임가인구'!H25/'임업1.시도별 임가 및 임가인구'!D25 -> 2.8251821

Sheet 8. 채취 품목별 임가
B1: 9. 채취 품목별 임가
J2: (단위 : 가구)
B3: 구분 | C3: 송이버섯 | D3: 기타버섯 | E3: 열매류 | F3: 취나물 | G3: 고사리 | H3: 기타산나물 | I3: 약용류 | J3: 수액류
B4: 전국 | C4: 1596 | D4: 687 | E4: 1383 | F4: 481 | G4: 1287 | H4: 1251 | I4: 668 | J4: 906
B5: 서울 | C5: 2 | D5: 0 | E5: 9 | F5: 1 | G5: 2 | H5: 4 | I5: 1 | J5: 0
B6: 부산 | C6: 0 | D6: 4 | E6: 8 | F6: 0 | G6: 4 | H6: 6 | I6: 3 | J6: 0
B7: 대구 | C7: 9 | D7: 4 | E7: 5 | F7: 1 | G7: 4 | H7: 12 | I7: 3 | J7: 3
B8: 인천 | C8: 0 | D8: 1 | E8: 8 | F8: 2 | G8: 6 | H8: 6 | I8: 4 | J8: 0
B9: 광주 | C9: 0 | D9: 2 | E9: 3 | F9: 1 | G9: 1 | H9: 4 | I9: 3 | J9: 2
B10: 대전 | C10: 1 | D10: 2 | E10: 12 | F10: 5 | G10: 4 | H10: 8 | I10: 6 | J10: 2
B11: 울산 | C11: 1 | D11: 3 | E11: 2 | F11: 6 | G11: 8 | H11: 5 | I11: 5 | J11: 10
B12: 세종 | C12: 0 | D12: 5 | E12: 23 | F12: 0 | G12: 0 | H12: 4 | I12: 2 | J12: 0
B13: 경기 | C13: 7 | D13: 21 | E13: 95 | F13: 32 | G13: 19 | H13: 70 | I13: 43 | J13: 19
B14: 강원 | C14: 575 | D14: 251 | E14: 103 | F14: 106 | G14: 147 | H14: 353 | I14: 201 | J14: 48
B15: 충북 | C15: 38 | D15: 44 | E15: 54 | F15: 25 | G15: 34 | H15: 39 | I15: 47 | J15: 7
... B21: 제주 | C21: 0 | D21: 12 | E21: 7 | F21: 10 | G21: 34 | H21: 6 | I21: 2 | J21: 0

Sheet 9. 재배 품목별 임가
B1: 9. 재배 품목별 임가
M2: (단위 : 가구)
B3: 구분 | C3: 산나물 | D3: 약용작물 | E3: 관상작물 | F3: 표고버섯 | G3: 떫은감 | H3: 밤 | I3: 호두 | J3: 대추 | K3: 잣 | L3: 은행 | M3: 복분자
B4: 전국 | C4: 20570 | D4: 17260 | E4: 12656 | F4: 3690 | G4: 26288 | H4: 8733 | I4: 3422 | J4: 6589 | K4: 185 | L4: 585 | M4: 4584
B5: 서울 | C5: 52 | D5: 62 | E5: 115 | F5: 11 | G5: 31 | H5: 23 | I5: 16 | J5: 27 | K5: 0 | L5: 6 | M5: 1
B6: 부산 | C6: 70 | D6: 86 | E6: 113 | F6: 18 | G6: 162 | H6: 25 | I6: 5 | J6: 43 | K6: 2 | L6: 3 | M6: 15
B7: 대구 | C7: 149 | D7: 184 | E7: 262 | F7: 30 | G7: 530 | H7: 31 | I7: 97 | J7: 323 | K7: 2 | L7: 14 | M7: 21
B8: 인천 | C8: 79 | D8: 76 | E8: 82 | F8: 21 | G8: 35 | H8: 21 | I8: 6 | J8: 23 | K8: 1 | L8: 4 | M8: 5
B9: 광주 | C9: 71 | D9: 96 | E9: 434 | F9: 16 | G9: 430 | H9: 14 | I9: 15 | J9: 21 | K9: 0 | L9: 6 | M9: 13
B10: 대전 | C10: 106 | D10: 127 | E10: 178 | F10: 37 | G10: 176 | H10: 66 | I10: 59 | J10: 107 | K10: 5 | L10: 22 | M10: 12
B11: 울산 | C11: 89 | D11: 91 | E11: 74 | F11: 21 | G11: 151 | H11: 25 | I11: 3 | J11: 44 | K11: 0 | L11: 0 | M11: 20
B12: 세종 | C12: 23 | D12: 34 | E12: 78 | F12: 15 | G12: 24 | H12: 87 | I12: 27 | J12: 29 | K12: 1 | L12: 15 | M12: 4
B13: 경기 | C13: 714 | D13: 706 | E13: 1853 | F13: 297 | G13: 106 | H13: 190 | I13: 79 | J13: 258 | K13: 38 | L13: 60 | M13: 47
B14: 강원 | C14: 4140 | D14: 2330 | E14: 513 | F14: 233 | G14: 706 | H14: 219 | I14: 145 | J14: 114 | K14: 36 | L14: 15 | M14: 157
B15: 충북 | C15: 1002 | D15: 1683 | E15: 723 | F15: 294 | G15: 1137 | H15: 350 | I15: 755 | J15: 1024 | K15: 23 | L15: 39 | M15: 86
... B21: 제주 | C21: 471 | D21: 96 | E21: 282 | F21: 40 | G21: 11 | H21: 1 | I21: 0 | J21: 5 | K21: 0 | L21: 2 | M21: 3
